BEGIN:VCALENDAR
VERSION:2.0
PRODID:-//Community Links - ECPv6.15.20//NONSGML v1.0//EN
CALSCALE:GREGORIAN
METHOD:PUBLISH
X-ORIGINAL-URL:https://www.community-links.org
X-WR-CALDESC:Events for Community Links
REFRESH-INTERVAL;VALUE=DURATION:PT1H
X-Robots-Tag:noindex
X-PUBLISHED-TTL:PT1H
BEGIN:VTIMEZONE
TZID:Europe/London
BEGIN:DAYLIGHT
TZOFFSETFROM:+0000
TZOFFSETTO:+0100
TZNAME:BST
DTSTART:20250330T010000
END:DAYLIGHT
BEGIN:STANDARD
TZOFFSETFROM:+0100
TZOFFSETTO:+0000
TZNAME:GMT
DTSTART:20251026T010000
END:STANDARD
BEGIN:DAYLIGHT
TZOFFSETFROM:+0000
TZOFFSETTO:+0100
TZNAME:BST
DTSTART:20260329T010000
END:DAYLIGHT
BEGIN:STANDARD
TZOFFSETFROM:+0100
TZOFFSETTO:+0000
TZNAME:GMT
DTSTART:20261025T010000
END:STANDARD
BEGIN:DAYLIGHT
TZOFFSETFROM:+0000
TZOFFSETTO:+0100
TZNAME:BST
DTSTART:20270328T010000
END:DAYLIGHT
BEGIN:STANDARD
TZOFFSETFROM:+0100
TZOFFSETTO:+0000
TZNAME:GMT
DTSTART:20271031T010000
END:STANDARD
END:VTIMEZONE
BEGIN:VEVENT
DTSTART;TZID=Europe/London:20261012T173000
DTEND;TZID=Europe/London:20261012T203000
DTSTAMP:20260425T134007
CREATED:20210615T110737Z
LAST-MODIFIED:20210615T110737Z
UID:4099-1791826200-1791837000@www.community-links.org
SUMMARY:Free Legal Advice
DESCRIPTION:In need of FREE legal support?\nOur specialist advisors and dedicated volunteers provide free legal support for clients with legal issues relating to consumer\, housing\, or employment law. \nTo enquire and arrange an appointment\, call 020 7473 9681 Monday-Friday\, from 9.30am-5.00pm. \nAlternatively\, you can email us at advice@community-links.org\, or visit us at 105 Barking Road\, London\, E16 4HQ. \nAdvice appointments take place on Mondays and Wednesdays\, 5:30pm-8:30pm.
URL:https://www.community-links.org/event/free-legal-advice/2026-10-12/
LOCATION:Community Links\, 105 Barking Road\, Canning Town\, London\, E16 4HQ\, United Kingdom
ORGANIZER;CN="Advice Service":MAILTO:advice@community-links.org
END:VEVENT
BEGIN:VEVENT
DTSTART;TZID=Europe/London:20261014T160000
DTEND;TZID=Europe/London:20261014T170000
DTSTAMP:20260425T134007
CREATED:20210615T111000Z
LAST-MODIFIED:20210615T111000Z
UID:4104-1791993600-1791997200@www.community-links.org
SUMMARY:Food Bank
DESCRIPTION:
URL:https://www.community-links.org/event/food-bank-2021-09-22/2026-10-14/
LOCATION:Community Links\, 105 Barking Road\, Canning Town\, London\, E16 4HQ\, United Kingdom
ORGANIZER;CN="Advice Service":MAILTO:advice@community-links.org
END:VEVENT
BEGIN:VEVENT
DTSTART;TZID=Europe/London:20261014T173000
DTEND;TZID=Europe/London:20261014T203000
DTSTAMP:20260425T134007
CREATED:20210615T110737Z
LAST-MODIFIED:20210615T110737Z
UID:4102-1791999000-1792009800@www.community-links.org
SUMMARY:Free Legal Advice
DESCRIPTION:In need of FREE legal support?\nOur specialist advisors and dedicated volunteers provide free legal support for clients with legal issues relating to consumer\, housing\, or employment law. \nTo enquire and arrange an appointment\, call 020 7473 9681 Monday-Friday\, from 9.30am-5.00pm. \nAlternatively\, you can email us at advice@community-links.org\, or visit us at 105 Barking Road\, London\, E16 4HQ. \nAdvice appointments take place on Mondays and Wednesdays\, 5:30pm-8:30pm.
URL:https://www.community-links.org/event/free-legal-advice/2026-10-14/
LOCATION:Community Links\, 105 Barking Road\, Canning Town\, London\, E16 4HQ\, United Kingdom
ORGANIZER;CN="Advice Service":MAILTO:advice@community-links.org
END:VEVENT
BEGIN:VEVENT
DTSTART;TZID=Europe/London:20261019T173000
DTEND;TZID=Europe/London:20261019T203000
DTSTAMP:20260425T134007
CREATED:20210615T110737Z
LAST-MODIFIED:20210615T110737Z
UID:4108-1792431000-1792441800@www.community-links.org
SUMMARY:Free Legal Advice
DESCRIPTION:In need of FREE legal support?\nOur specialist advisors and dedicated volunteers provide free legal support for clients with legal issues relating to consumer\, housing\, or employment law. \nTo enquire and arrange an appointment\, call 020 7473 9681 Monday-Friday\, from 9.30am-5.00pm. \nAlternatively\, you can email us at advice@community-links.org\, or visit us at 105 Barking Road\, London\, E16 4HQ. \nAdvice appointments take place on Mondays and Wednesdays\, 5:30pm-8:30pm.
URL:https://www.community-links.org/event/free-legal-advice/2026-10-19/
LOCATION:Community Links\, 105 Barking Road\, Canning Town\, London\, E16 4HQ\, United Kingdom
ORGANIZER;CN="Advice Service":MAILTO:advice@community-links.org
END:VEVENT
BEGIN:VEVENT
DTSTART;TZID=Europe/London:20261021T160000
DTEND;TZID=Europe/London:20261021T170000
DTSTAMP:20260425T134007
CREATED:20210615T111000Z
LAST-MODIFIED:20210615T111000Z
UID:4113-1792598400-1792602000@www.community-links.org
SUMMARY:Food Bank
DESCRIPTION:
URL:https://www.community-links.org/event/food-bank-2021-09-22/2026-10-21/
LOCATION:Community Links\, 105 Barking Road\, Canning Town\, London\, E16 4HQ\, United Kingdom
ORGANIZER;CN="Advice Service":MAILTO:advice@community-links.org
END:VEVENT
BEGIN:VEVENT
DTSTART;TZID=Europe/London:20261021T173000
DTEND;TZID=Europe/London:20261021T203000
DTSTAMP:20260425T134007
CREATED:20210615T110737Z
LAST-MODIFIED:20210615T110737Z
UID:4111-1792603800-1792614600@www.community-links.org
SUMMARY:Free Legal Advice
DESCRIPTION:In need of FREE legal support?\nOur specialist advisors and dedicated volunteers provide free legal support for clients with legal issues relating to consumer\, housing\, or employment law. \nTo enquire and arrange an appointment\, call 020 7473 9681 Monday-Friday\, from 9.30am-5.00pm. \nAlternatively\, you can email us at advice@community-links.org\, or visit us at 105 Barking Road\, London\, E16 4HQ. \nAdvice appointments take place on Mondays and Wednesdays\, 5:30pm-8:30pm.
URL:https://www.community-links.org/event/free-legal-advice/2026-10-21/
LOCATION:Community Links\, 105 Barking Road\, Canning Town\, London\, E16 4HQ\, United Kingdom
ORGANIZER;CN="Advice Service":MAILTO:advice@community-links.org
END:VEVENT
BEGIN:VEVENT
DTSTART;TZID=Europe/London:20261026T173000
DTEND;TZID=Europe/London:20261026T203000
DTSTAMP:20260425T134007
CREATED:20210615T110737Z
LAST-MODIFIED:20210615T110737Z
UID:4117-1793035800-1793046600@www.community-links.org
SUMMARY:Free Legal Advice
DESCRIPTION:In need of FREE legal support?\nOur specialist advisors and dedicated volunteers provide free legal support for clients with legal issues relating to consumer\, housing\, or employment law. \nTo enquire and arrange an appointment\, call 020 7473 9681 Monday-Friday\, from 9.30am-5.00pm. \nAlternatively\, you can email us at advice@community-links.org\, or visit us at 105 Barking Road\, London\, E16 4HQ. \nAdvice appointments take place on Mondays and Wednesdays\, 5:30pm-8:30pm.
URL:https://www.community-links.org/event/free-legal-advice/2026-10-26/
LOCATION:Community Links\, 105 Barking Road\, Canning Town\, London\, E16 4HQ\, United Kingdom
ORGANIZER;CN="Advice Service":MAILTO:advice@community-links.org
END:VEVENT
BEGIN:VEVENT
DTSTART;TZID=Europe/London:20261028T160000
DTEND;TZID=Europe/London:20261028T170000
DTSTAMP:20260425T134007
CREATED:20210615T111000Z
LAST-MODIFIED:20210615T111000Z
UID:4122-1793203200-1793206800@www.community-links.org
SUMMARY:Food Bank
DESCRIPTION:
URL:https://www.community-links.org/event/food-bank-2021-09-22/2026-10-28/
LOCATION:Community Links\, 105 Barking Road\, Canning Town\, London\, E16 4HQ\, United Kingdom
ORGANIZER;CN="Advice Service":MAILTO:advice@community-links.org
END:VEVENT
BEGIN:VEVENT
DTSTART;TZID=Europe/London:20261028T173000
DTEND;TZID=Europe/London:20261028T203000
DTSTAMP:20260425T134007
CREATED:20210615T110737Z
LAST-MODIFIED:20210615T110737Z
UID:4120-1793208600-1793219400@www.community-links.org
SUMMARY:Free Legal Advice
DESCRIPTION:In need of FREE legal support?\nOur specialist advisors and dedicated volunteers provide free legal support for clients with legal issues relating to consumer\, housing\, or employment law. \nTo enquire and arrange an appointment\, call 020 7473 9681 Monday-Friday\, from 9.30am-5.00pm. \nAlternatively\, you can email us at advice@community-links.org\, or visit us at 105 Barking Road\, London\, E16 4HQ. \nAdvice appointments take place on Mondays and Wednesdays\, 5:30pm-8:30pm.
URL:https://www.community-links.org/event/free-legal-advice/2026-10-28/
LOCATION:Community Links\, 105 Barking Road\, Canning Town\, London\, E16 4HQ\, United Kingdom
ORGANIZER;CN="Advice Service":MAILTO:advice@community-links.org
END:VEVENT
BEGIN:VEVENT
DTSTART;TZID=Europe/London:20261102T173000
DTEND;TZID=Europe/London:20261102T203000
DTSTAMP:20260425T134007
CREATED:20210615T110737Z
LAST-MODIFIED:20210615T110737Z
UID:4125-1793640600-1793651400@www.community-links.org
SUMMARY:Free Legal Advice
DESCRIPTION:In need of FREE legal support?\nOur specialist advisors and dedicated volunteers provide free legal support for clients with legal issues relating to consumer\, housing\, or employment law. \nTo enquire and arrange an appointment\, call 020 7473 9681 Monday-Friday\, from 9.30am-5.00pm. \nAlternatively\, you can email us at advice@community-links.org\, or visit us at 105 Barking Road\, London\, E16 4HQ. \nAdvice appointments take place on Mondays and Wednesdays\, 5:30pm-8:30pm.
URL:https://www.community-links.org/event/free-legal-advice/2026-11-02/
LOCATION:Community Links\, 105 Barking Road\, Canning Town\, London\, E16 4HQ\, United Kingdom
ORGANIZER;CN="Advice Service":MAILTO:advice@community-links.org
END:VEVENT
BEGIN:VEVENT
DTSTART;TZID=Europe/London:20261104T160000
DTEND;TZID=Europe/London:20261104T170000
DTSTAMP:20260425T134007
CREATED:20210615T111000Z
LAST-MODIFIED:20210615T111000Z
UID:4128-1793808000-1793811600@www.community-links.org
SUMMARY:Food Bank
DESCRIPTION:
URL:https://www.community-links.org/event/food-bank-2021-09-22/2026-11-04/
LOCATION:Community Links\, 105 Barking Road\, Canning Town\, London\, E16 4HQ\, United Kingdom
ORGANIZER;CN="Advice Service":MAILTO:advice@community-links.org
END:VEVENT
BEGIN:VEVENT
DTSTART;TZID=Europe/London:20261104T173000
DTEND;TZID=Europe/London:20261104T203000
DTSTAMP:20260425T134007
CREATED:20210615T110737Z
LAST-MODIFIED:20210615T110737Z
UID:4126-1793813400-1793824200@www.community-links.org
SUMMARY:Free Legal Advice
DESCRIPTION:In need of FREE legal support?\nOur specialist advisors and dedicated volunteers provide free legal support for clients with legal issues relating to consumer\, housing\, or employment law. \nTo enquire and arrange an appointment\, call 020 7473 9681 Monday-Friday\, from 9.30am-5.00pm. \nAlternatively\, you can email us at advice@community-links.org\, or visit us at 105 Barking Road\, London\, E16 4HQ. \nAdvice appointments take place on Mondays and Wednesdays\, 5:30pm-8:30pm.
URL:https://www.community-links.org/event/free-legal-advice/2026-11-04/
LOCATION:Community Links\, 105 Barking Road\, Canning Town\, London\, E16 4HQ\, United Kingdom
ORGANIZER;CN="Advice Service":MAILTO:advice@community-links.org
END:VEVENT
BEGIN:VEVENT
DTSTART;TZID=Europe/London:20261109T173000
DTEND;TZID=Europe/London:20261109T203000
DTSTAMP:20260425T134007
CREATED:20210615T110737Z
LAST-MODIFIED:20210615T110737Z
UID:4135-1794245400-1794256200@www.community-links.org
SUMMARY:Free Legal Advice
DESCRIPTION:In need of FREE legal support?\nOur specialist advisors and dedicated volunteers provide free legal support for clients with legal issues relating to consumer\, housing\, or employment law. \nTo enquire and arrange an appointment\, call 020 7473 9681 Monday-Friday\, from 9.30am-5.00pm. \nAlternatively\, you can email us at advice@community-links.org\, or visit us at 105 Barking Road\, London\, E16 4HQ. \nAdvice appointments take place on Mondays and Wednesdays\, 5:30pm-8:30pm.
URL:https://www.community-links.org/event/free-legal-advice/2026-11-09/
LOCATION:Community Links\, 105 Barking Road\, Canning Town\, London\, E16 4HQ\, United Kingdom
ORGANIZER;CN="Advice Service":MAILTO:advice@community-links.org
END:VEVENT
BEGIN:VEVENT
DTSTART;TZID=Europe/London:20261111T160000
DTEND;TZID=Europe/London:20261111T170000
DTSTAMP:20260425T134007
CREATED:20210615T111000Z
LAST-MODIFIED:20210615T111000Z
UID:4140-1794412800-1794416400@www.community-links.org
SUMMARY:Food Bank
DESCRIPTION:
URL:https://www.community-links.org/event/food-bank-2021-09-22/2026-11-11/
LOCATION:Community Links\, 105 Barking Road\, Canning Town\, London\, E16 4HQ\, United Kingdom
ORGANIZER;CN="Advice Service":MAILTO:advice@community-links.org
END:VEVENT
BEGIN:VEVENT
DTSTART;TZID=Europe/London:20261111T173000
DTEND;TZID=Europe/London:20261111T203000
DTSTAMP:20260425T134007
CREATED:20210615T110737Z
LAST-MODIFIED:20210615T110737Z
UID:4138-1794418200-1794429000@www.community-links.org
SUMMARY:Free Legal Advice
DESCRIPTION:In need of FREE legal support?\nOur specialist advisors and dedicated volunteers provide free legal support for clients with legal issues relating to consumer\, housing\, or employment law. \nTo enquire and arrange an appointment\, call 020 7473 9681 Monday-Friday\, from 9.30am-5.00pm. \nAlternatively\, you can email us at advice@community-links.org\, or visit us at 105 Barking Road\, London\, E16 4HQ. \nAdvice appointments take place on Mondays and Wednesdays\, 5:30pm-8:30pm.
URL:https://www.community-links.org/event/free-legal-advice/2026-11-11/
LOCATION:Community Links\, 105 Barking Road\, Canning Town\, London\, E16 4HQ\, United Kingdom
ORGANIZER;CN="Advice Service":MAILTO:advice@community-links.org
END:VEVENT
BEGIN:VEVENT
DTSTART;TZID=Europe/London:20261116T173000
DTEND;TZID=Europe/London:20261116T203000
DTSTAMP:20260425T134007
CREATED:20210615T110737Z
LAST-MODIFIED:20210615T110737Z
UID:4145-1794850200-1794861000@www.community-links.org
SUMMARY:Free Legal Advice
DESCRIPTION:In need of FREE legal support?\nOur specialist advisors and dedicated volunteers provide free legal support for clients with legal issues relating to consumer\, housing\, or employment law. \nTo enquire and arrange an appointment\, call 020 7473 9681 Monday-Friday\, from 9.30am-5.00pm. \nAlternatively\, you can email us at advice@community-links.org\, or visit us at 105 Barking Road\, London\, E16 4HQ. \nAdvice appointments take place on Mondays and Wednesdays\, 5:30pm-8:30pm.
URL:https://www.community-links.org/event/free-legal-advice/2026-11-16/
LOCATION:Community Links\, 105 Barking Road\, Canning Town\, London\, E16 4HQ\, United Kingdom
ORGANIZER;CN="Advice Service":MAILTO:advice@community-links.org
END:VEVENT
BEGIN:VEVENT
DTSTART;TZID=Europe/London:20261118T160000
DTEND;TZID=Europe/London:20261118T170000
DTSTAMP:20260425T134007
CREATED:20210615T111000Z
LAST-MODIFIED:20210615T111000Z
UID:4150-1795017600-1795021200@www.community-links.org
SUMMARY:Food Bank
DESCRIPTION:
URL:https://www.community-links.org/event/food-bank-2021-09-22/2026-11-18/
LOCATION:Community Links\, 105 Barking Road\, Canning Town\, London\, E16 4HQ\, United Kingdom
ORGANIZER;CN="Advice Service":MAILTO:advice@community-links.org
END:VEVENT
BEGIN:VEVENT
DTSTART;TZID=Europe/London:20261118T173000
DTEND;TZID=Europe/London:20261118T203000
DTSTAMP:20260425T134007
CREATED:20210615T110737Z
LAST-MODIFIED:20210615T110737Z
UID:4148-1795023000-1795033800@www.community-links.org
SUMMARY:Free Legal Advice
DESCRIPTION:In need of FREE legal support?\nOur specialist advisors and dedicated volunteers provide free legal support for clients with legal issues relating to consumer\, housing\, or employment law. \nTo enquire and arrange an appointment\, call 020 7473 9681 Monday-Friday\, from 9.30am-5.00pm. \nAlternatively\, you can email us at advice@community-links.org\, or visit us at 105 Barking Road\, London\, E16 4HQ. \nAdvice appointments take place on Mondays and Wednesdays\, 5:30pm-8:30pm.
URL:https://www.community-links.org/event/free-legal-advice/2026-11-18/
LOCATION:Community Links\, 105 Barking Road\, Canning Town\, London\, E16 4HQ\, United Kingdom
ORGANIZER;CN="Advice Service":MAILTO:advice@community-links.org
END:VEVENT
BEGIN:VEVENT
DTSTART;TZID=Europe/London:20261123T173000
DTEND;TZID=Europe/London:20261123T203000
DTSTAMP:20260425T134007
CREATED:20210615T110737Z
LAST-MODIFIED:20210615T110737Z
UID:4154-1795455000-1795465800@www.community-links.org
SUMMARY:Free Legal Advice
DESCRIPTION:In need of FREE legal support?\nOur specialist advisors and dedicated volunteers provide free legal support for clients with legal issues relating to consumer\, housing\, or employment law. \nTo enquire and arrange an appointment\, call 020 7473 9681 Monday-Friday\, from 9.30am-5.00pm. \nAlternatively\, you can email us at advice@community-links.org\, or visit us at 105 Barking Road\, London\, E16 4HQ. \nAdvice appointments take place on Mondays and Wednesdays\, 5:30pm-8:30pm.
URL:https://www.community-links.org/event/free-legal-advice/2026-11-23/
LOCATION:Community Links\, 105 Barking Road\, Canning Town\, London\, E16 4HQ\, United Kingdom
ORGANIZER;CN="Advice Service":MAILTO:advice@community-links.org
END:VEVENT
BEGIN:VEVENT
DTSTART;TZID=Europe/London:20261125T160000
DTEND;TZID=Europe/London:20261125T170000
DTSTAMP:20260425T134007
CREATED:20210615T111000Z
LAST-MODIFIED:20210615T111000Z
UID:4159-1795622400-1795626000@www.community-links.org
SUMMARY:Food Bank
DESCRIPTION:
URL:https://www.community-links.org/event/food-bank-2021-09-22/2026-11-25/
LOCATION:Community Links\, 105 Barking Road\, Canning Town\, London\, E16 4HQ\, United Kingdom
ORGANIZER;CN="Advice Service":MAILTO:advice@community-links.org
END:VEVENT
BEGIN:VEVENT
DTSTART;TZID=Europe/London:20261125T173000
DTEND;TZID=Europe/London:20261125T203000
DTSTAMP:20260425T134007
CREATED:20210615T110737Z
LAST-MODIFIED:20210615T110737Z
UID:4157-1795627800-1795638600@www.community-links.org
SUMMARY:Free Legal Advice
DESCRIPTION:In need of FREE legal support?\nOur specialist advisors and dedicated volunteers provide free legal support for clients with legal issues relating to consumer\, housing\, or employment law. \nTo enquire and arrange an appointment\, call 020 7473 9681 Monday-Friday\, from 9.30am-5.00pm. \nAlternatively\, you can email us at advice@community-links.org\, or visit us at 105 Barking Road\, London\, E16 4HQ. \nAdvice appointments take place on Mondays and Wednesdays\, 5:30pm-8:30pm.
URL:https://www.community-links.org/event/free-legal-advice/2026-11-25/
LOCATION:Community Links\, 105 Barking Road\, Canning Town\, London\, E16 4HQ\, United Kingdom
ORGANIZER;CN="Advice Service":MAILTO:advice@community-links.org
END:VEVENT
BEGIN:VEVENT
DTSTART;TZID=Europe/London:20261130T173000
DTEND;TZID=Europe/London:20261130T203000
DTSTAMP:20260425T134007
CREATED:20210615T110737Z
LAST-MODIFIED:20210615T110737Z
UID:4163-1796059800-1796070600@www.community-links.org
SUMMARY:Free Legal Advice
DESCRIPTION:In need of FREE legal support?\nOur specialist advisors and dedicated volunteers provide free legal support for clients with legal issues relating to consumer\, housing\, or employment law. \nTo enquire and arrange an appointment\, call 020 7473 9681 Monday-Friday\, from 9.30am-5.00pm. \nAlternatively\, you can email us at advice@community-links.org\, or visit us at 105 Barking Road\, London\, E16 4HQ. \nAdvice appointments take place on Mondays and Wednesdays\, 5:30pm-8:30pm.
URL:https://www.community-links.org/event/free-legal-advice/2026-11-30/
LOCATION:Community Links\, 105 Barking Road\, Canning Town\, London\, E16 4HQ\, United Kingdom
ORGANIZER;CN="Advice Service":MAILTO:advice@community-links.org
END:VEVENT
BEGIN:VEVENT
DTSTART;TZID=Europe/London:20261202T160000
DTEND;TZID=Europe/London:20261202T170000
DTSTAMP:20260425T134007
CREATED:20210615T111000Z
LAST-MODIFIED:20210615T111000Z
UID:4168-1796227200-1796230800@www.community-links.org
SUMMARY:Food Bank
DESCRIPTION:
URL:https://www.community-links.org/event/food-bank-2021-09-22/2026-12-02/
LOCATION:Community Links\, 105 Barking Road\, Canning Town\, London\, E16 4HQ\, United Kingdom
ORGANIZER;CN="Advice Service":MAILTO:advice@community-links.org
END:VEVENT
BEGIN:VEVENT
DTSTART;TZID=Europe/London:20261202T173000
DTEND;TZID=Europe/London:20261202T203000
DTSTAMP:20260425T134007
CREATED:20210615T110737Z
LAST-MODIFIED:20210615T110737Z
UID:4166-1796232600-1796243400@www.community-links.org
SUMMARY:Free Legal Advice
DESCRIPTION:In need of FREE legal support?\nOur specialist advisors and dedicated volunteers provide free legal support for clients with legal issues relating to consumer\, housing\, or employment law. \nTo enquire and arrange an appointment\, call 020 7473 9681 Monday-Friday\, from 9.30am-5.00pm. \nAlternatively\, you can email us at advice@community-links.org\, or visit us at 105 Barking Road\, London\, E16 4HQ. \nAdvice appointments take place on Mondays and Wednesdays\, 5:30pm-8:30pm.
URL:https://www.community-links.org/event/free-legal-advice/2026-12-02/
LOCATION:Community Links\, 105 Barking Road\, Canning Town\, London\, E16 4HQ\, United Kingdom
ORGANIZER;CN="Advice Service":MAILTO:advice@community-links.org
END:VEVENT
BEGIN:VEVENT
DTSTART;TZID=Europe/London:20261207T173000
DTEND;TZID=Europe/London:20261207T203000
DTSTAMP:20260425T134007
CREATED:20210615T110737Z
LAST-MODIFIED:20210615T110737Z
UID:4172-1796664600-1796675400@www.community-links.org
SUMMARY:Free Legal Advice
DESCRIPTION:In need of FREE legal support?\nOur specialist advisors and dedicated volunteers provide free legal support for clients with legal issues relating to consumer\, housing\, or employment law. \nTo enquire and arrange an appointment\, call 020 7473 9681 Monday-Friday\, from 9.30am-5.00pm. \nAlternatively\, you can email us at advice@community-links.org\, or visit us at 105 Barking Road\, London\, E16 4HQ. \nAdvice appointments take place on Mondays and Wednesdays\, 5:30pm-8:30pm.
URL:https://www.community-links.org/event/free-legal-advice/2026-12-07/
LOCATION:Community Links\, 105 Barking Road\, Canning Town\, London\, E16 4HQ\, United Kingdom
ORGANIZER;CN="Advice Service":MAILTO:advice@community-links.org
END:VEVENT
BEGIN:VEVENT
DTSTART;TZID=Europe/London:20261209T160000
DTEND;TZID=Europe/London:20261209T170000
DTSTAMP:20260425T134007
CREATED:20210615T111000Z
LAST-MODIFIED:20210615T111000Z
UID:4177-1796832000-1796835600@www.community-links.org
SUMMARY:Food Bank
DESCRIPTION:
URL:https://www.community-links.org/event/food-bank-2021-09-22/2026-12-09/
LOCATION:Community Links\, 105 Barking Road\, Canning Town\, London\, E16 4HQ\, United Kingdom
ORGANIZER;CN="Advice Service":MAILTO:advice@community-links.org
END:VEVENT
BEGIN:VEVENT
DTSTART;TZID=Europe/London:20261209T173000
DTEND;TZID=Europe/London:20261209T203000
DTSTAMP:20260425T134007
CREATED:20210615T110737Z
LAST-MODIFIED:20210615T110737Z
UID:4175-1796837400-1796848200@www.community-links.org
SUMMARY:Free Legal Advice
DESCRIPTION:In need of FREE legal support?\nOur specialist advisors and dedicated volunteers provide free legal support for clients with legal issues relating to consumer\, housing\, or employment law. \nTo enquire and arrange an appointment\, call 020 7473 9681 Monday-Friday\, from 9.30am-5.00pm. \nAlternatively\, you can email us at advice@community-links.org\, or visit us at 105 Barking Road\, London\, E16 4HQ. \nAdvice appointments take place on Mondays and Wednesdays\, 5:30pm-8:30pm.
URL:https://www.community-links.org/event/free-legal-advice/2026-12-09/
LOCATION:Community Links\, 105 Barking Road\, Canning Town\, London\, E16 4HQ\, United Kingdom
ORGANIZER;CN="Advice Service":MAILTO:advice@community-links.org
END:VEVENT
BEGIN:VEVENT
DTSTART;TZID=Europe/London:20261214T173000
DTEND;TZID=Europe/London:20261214T203000
DTSTAMP:20260425T134007
CREATED:20210615T110737Z
LAST-MODIFIED:20210615T110737Z
UID:4181-1797269400-1797280200@www.community-links.org
SUMMARY:Free Legal Advice
DESCRIPTION:In need of FREE legal support?\nOur specialist advisors and dedicated volunteers provide free legal support for clients with legal issues relating to consumer\, housing\, or employment law. \nTo enquire and arrange an appointment\, call 020 7473 9681 Monday-Friday\, from 9.30am-5.00pm. \nAlternatively\, you can email us at advice@community-links.org\, or visit us at 105 Barking Road\, London\, E16 4HQ. \nAdvice appointments take place on Mondays and Wednesdays\, 5:30pm-8:30pm.
URL:https://www.community-links.org/event/free-legal-advice/2026-12-14/
LOCATION:Community Links\, 105 Barking Road\, Canning Town\, London\, E16 4HQ\, United Kingdom
ORGANIZER;CN="Advice Service":MAILTO:advice@community-links.org
END:VEVENT
BEGIN:VEVENT
DTSTART;TZID=Europe/London:20261216T160000
DTEND;TZID=Europe/London:20261216T170000
DTSTAMP:20260425T134007
CREATED:20210615T111000Z
LAST-MODIFIED:20210615T111000Z
UID:4186-1797436800-1797440400@www.community-links.org
SUMMARY:Food Bank
DESCRIPTION:
URL:https://www.community-links.org/event/food-bank-2021-09-22/2026-12-16/
LOCATION:Community Links\, 105 Barking Road\, Canning Town\, London\, E16 4HQ\, United Kingdom
ORGANIZER;CN="Advice Service":MAILTO:advice@community-links.org
END:VEVENT
BEGIN:VEVENT
DTSTART;TZID=Europe/London:20261216T173000
DTEND;TZID=Europe/London:20261216T203000
DTSTAMP:20260425T134007
CREATED:20210615T110737Z
LAST-MODIFIED:20210615T110737Z
UID:4184-1797442200-1797453000@www.community-links.org
SUMMARY:Free Legal Advice
DESCRIPTION:In need of FREE legal support?\nOur specialist advisors and dedicated volunteers provide free legal support for clients with legal issues relating to consumer\, housing\, or employment law. \nTo enquire and arrange an appointment\, call 020 7473 9681 Monday-Friday\, from 9.30am-5.00pm. \nAlternatively\, you can email us at advice@community-links.org\, or visit us at 105 Barking Road\, London\, E16 4HQ. \nAdvice appointments take place on Mondays and Wednesdays\, 5:30pm-8:30pm.
URL:https://www.community-links.org/event/free-legal-advice/2026-12-16/
LOCATION:Community Links\, 105 Barking Road\, Canning Town\, London\, E16 4HQ\, United Kingdom
ORGANIZER;CN="Advice Service":MAILTO:advice@community-links.org
END:VEVENT
END:VCALENDAR