BEGIN:VCALENDAR
VERSION:2.0
PRODID:-//Community Links - ECPv6.15.20//NONSGML v1.0//EN
CALSCALE:GREGORIAN
METHOD:PUBLISH
X-WR-CALNAME:Community Links
X-ORIGINAL-URL:https://www.community-links.org
X-WR-CALDESC:Events for Community Links
REFRESH-INTERVAL;VALUE=DURATION:PT1H
X-Robots-Tag:noindex
X-PUBLISHED-TTL:PT1H
BEGIN:VTIMEZONE
TZID:Europe/London
BEGIN:DAYLIGHT
TZOFFSETFROM:+0000
TZOFFSETTO:+0100
TZNAME:BST
DTSTART:20260329T010000
END:DAYLIGHT
BEGIN:STANDARD
TZOFFSETFROM:+0100
TZOFFSETTO:+0000
TZNAME:GMT
DTSTART:20261025T010000
END:STANDARD
BEGIN:DAYLIGHT
TZOFFSETFROM:+0000
TZOFFSETTO:+0100
TZNAME:BST
DTSTART:20270328T010000
END:DAYLIGHT
BEGIN:STANDARD
TZOFFSETFROM:+0100
TZOFFSETTO:+0000
TZNAME:GMT
DTSTART:20271031T010000
END:STANDARD
BEGIN:DAYLIGHT
TZOFFSETFROM:+0000
TZOFFSETTO:+0100
TZNAME:BST
DTSTART:20280326T010000
END:DAYLIGHT
BEGIN:STANDARD
TZOFFSETFROM:+0100
TZOFFSETTO:+0000
TZNAME:GMT
DTSTART:20281029T010000
END:STANDARD
END:VTIMEZONE
BEGIN:VEVENT
DTSTART;TZID=Europe/London:20270301T173000
DTEND;TZID=Europe/London:20270301T203000
DTSTAMP:20260426T051033
CREATED:20210615T110737Z
LAST-MODIFIED:20210615T110737Z
UID:4294-1803922200-1803933000@www.community-links.org
SUMMARY:Free Legal Advice
DESCRIPTION:In need of FREE legal support?\nOur specialist advisors and dedicated volunteers provide free legal support for clients with legal issues relating to consumer\, housing\, or employment law. \nTo enquire and arrange an appointment\, call 020 7473 9681 Monday-Friday\, from 9.30am-5.00pm. \nAlternatively\, you can email us at advice@community-links.org\, or visit us at 105 Barking Road\, London\, E16 4HQ. \nAdvice appointments take place on Mondays and Wednesdays\, 5:30pm-8:30pm.
URL:https://www.community-links.org/event/free-legal-advice/2027-03-01/
LOCATION:Community Links\, 105 Barking Road\, Canning Town\, London\, E16 4HQ\, United Kingdom
ORGANIZER;CN="Advice Service":MAILTO:advice@community-links.org
END:VEVENT
BEGIN:VEVENT
DTSTART;TZID=Europe/London:20270303T160000
DTEND;TZID=Europe/London:20270303T170000
DTSTAMP:20260426T051033
CREATED:20210615T111000Z
LAST-MODIFIED:20210615T111000Z
UID:4299-1804089600-1804093200@www.community-links.org
SUMMARY:Food Bank
DESCRIPTION:
URL:https://www.community-links.org/event/food-bank-2021-09-22/2027-03-03/
LOCATION:Community Links\, 105 Barking Road\, Canning Town\, London\, E16 4HQ\, United Kingdom
ORGANIZER;CN="Advice Service":MAILTO:advice@community-links.org
END:VEVENT
BEGIN:VEVENT
DTSTART;TZID=Europe/London:20270303T173000
DTEND;TZID=Europe/London:20270303T203000
DTSTAMP:20260426T051033
CREATED:20210615T110737Z
LAST-MODIFIED:20210615T110737Z
UID:4297-1804095000-1804105800@www.community-links.org
SUMMARY:Free Legal Advice
DESCRIPTION:In need of FREE legal support?\nOur specialist advisors and dedicated volunteers provide free legal support for clients with legal issues relating to consumer\, housing\, or employment law. \nTo enquire and arrange an appointment\, call 020 7473 9681 Monday-Friday\, from 9.30am-5.00pm. \nAlternatively\, you can email us at advice@community-links.org\, or visit us at 105 Barking Road\, London\, E16 4HQ. \nAdvice appointments take place on Mondays and Wednesdays\, 5:30pm-8:30pm.
URL:https://www.community-links.org/event/free-legal-advice/2027-03-03/
LOCATION:Community Links\, 105 Barking Road\, Canning Town\, London\, E16 4HQ\, United Kingdom
ORGANIZER;CN="Advice Service":MAILTO:advice@community-links.org
END:VEVENT
BEGIN:VEVENT
DTSTART;TZID=Europe/London:20270308T173000
DTEND;TZID=Europe/London:20270308T203000
DTSTAMP:20260426T051033
CREATED:20210615T110737Z
LAST-MODIFIED:20210615T110737Z
UID:4303-1804527000-1804537800@www.community-links.org
SUMMARY:Free Legal Advice
DESCRIPTION:In need of FREE legal support?\nOur specialist advisors and dedicated volunteers provide free legal support for clients with legal issues relating to consumer\, housing\, or employment law. \nTo enquire and arrange an appointment\, call 020 7473 9681 Monday-Friday\, from 9.30am-5.00pm. \nAlternatively\, you can email us at advice@community-links.org\, or visit us at 105 Barking Road\, London\, E16 4HQ. \nAdvice appointments take place on Mondays and Wednesdays\, 5:30pm-8:30pm.
URL:https://www.community-links.org/event/free-legal-advice/2027-03-08/
LOCATION:Community Links\, 105 Barking Road\, Canning Town\, London\, E16 4HQ\, United Kingdom
ORGANIZER;CN="Advice Service":MAILTO:advice@community-links.org
END:VEVENT
BEGIN:VEVENT
DTSTART;TZID=Europe/London:20270310T160000
DTEND;TZID=Europe/London:20270310T170000
DTSTAMP:20260426T051033
CREATED:20210615T111000Z
LAST-MODIFIED:20210615T111000Z
UID:4308-1804694400-1804698000@www.community-links.org
SUMMARY:Food Bank
DESCRIPTION:
URL:https://www.community-links.org/event/food-bank-2021-09-22/2027-03-10/
LOCATION:Community Links\, 105 Barking Road\, Canning Town\, London\, E16 4HQ\, United Kingdom
ORGANIZER;CN="Advice Service":MAILTO:advice@community-links.org
END:VEVENT
BEGIN:VEVENT
DTSTART;TZID=Europe/London:20270310T173000
DTEND;TZID=Europe/London:20270310T203000
DTSTAMP:20260426T051033
CREATED:20210615T110737Z
LAST-MODIFIED:20210615T110737Z
UID:4306-1804699800-1804710600@www.community-links.org
SUMMARY:Free Legal Advice
DESCRIPTION:In need of FREE legal support?\nOur specialist advisors and dedicated volunteers provide free legal support for clients with legal issues relating to consumer\, housing\, or employment law. \nTo enquire and arrange an appointment\, call 020 7473 9681 Monday-Friday\, from 9.30am-5.00pm. \nAlternatively\, you can email us at advice@community-links.org\, or visit us at 105 Barking Road\, London\, E16 4HQ. \nAdvice appointments take place on Mondays and Wednesdays\, 5:30pm-8:30pm.
URL:https://www.community-links.org/event/free-legal-advice/2027-03-10/
LOCATION:Community Links\, 105 Barking Road\, Canning Town\, London\, E16 4HQ\, United Kingdom
ORGANIZER;CN="Advice Service":MAILTO:advice@community-links.org
END:VEVENT
BEGIN:VEVENT
DTSTART;TZID=Europe/London:20270315T173000
DTEND;TZID=Europe/London:20270315T203000
DTSTAMP:20260426T051033
CREATED:20210615T110737Z
LAST-MODIFIED:20210615T110737Z
UID:4312-1805131800-1805142600@www.community-links.org
SUMMARY:Free Legal Advice
DESCRIPTION:In need of FREE legal support?\nOur specialist advisors and dedicated volunteers provide free legal support for clients with legal issues relating to consumer\, housing\, or employment law. \nTo enquire and arrange an appointment\, call 020 7473 9681 Monday-Friday\, from 9.30am-5.00pm. \nAlternatively\, you can email us at advice@community-links.org\, or visit us at 105 Barking Road\, London\, E16 4HQ. \nAdvice appointments take place on Mondays and Wednesdays\, 5:30pm-8:30pm.
URL:https://www.community-links.org/event/free-legal-advice/2027-03-15/
LOCATION:Community Links\, 105 Barking Road\, Canning Town\, London\, E16 4HQ\, United Kingdom
ORGANIZER;CN="Advice Service":MAILTO:advice@community-links.org
END:VEVENT
BEGIN:VEVENT
DTSTART;TZID=Europe/London:20270317T160000
DTEND;TZID=Europe/London:20270317T170000
DTSTAMP:20260426T051033
CREATED:20210615T111000Z
LAST-MODIFIED:20210615T111000Z
UID:4317-1805299200-1805302800@www.community-links.org
SUMMARY:Food Bank
DESCRIPTION:
URL:https://www.community-links.org/event/food-bank-2021-09-22/2027-03-17/
LOCATION:Community Links\, 105 Barking Road\, Canning Town\, London\, E16 4HQ\, United Kingdom
ORGANIZER;CN="Advice Service":MAILTO:advice@community-links.org
END:VEVENT
BEGIN:VEVENT
DTSTART;TZID=Europe/London:20270317T173000
DTEND;TZID=Europe/London:20270317T203000
DTSTAMP:20260426T051033
CREATED:20210615T110737Z
LAST-MODIFIED:20210615T110737Z
UID:4315-1805304600-1805315400@www.community-links.org
SUMMARY:Free Legal Advice
DESCRIPTION:In need of FREE legal support?\nOur specialist advisors and dedicated volunteers provide free legal support for clients with legal issues relating to consumer\, housing\, or employment law. \nTo enquire and arrange an appointment\, call 020 7473 9681 Monday-Friday\, from 9.30am-5.00pm. \nAlternatively\, you can email us at advice@community-links.org\, or visit us at 105 Barking Road\, London\, E16 4HQ. \nAdvice appointments take place on Mondays and Wednesdays\, 5:30pm-8:30pm.
URL:https://www.community-links.org/event/free-legal-advice/2027-03-17/
LOCATION:Community Links\, 105 Barking Road\, Canning Town\, London\, E16 4HQ\, United Kingdom
ORGANIZER;CN="Advice Service":MAILTO:advice@community-links.org
END:VEVENT
BEGIN:VEVENT
DTSTART;TZID=Europe/London:20270322T173000
DTEND;TZID=Europe/London:20270322T203000
DTSTAMP:20260426T051033
CREATED:20210615T110737Z
LAST-MODIFIED:20210615T110737Z
UID:4321-1805736600-1805747400@www.community-links.org
SUMMARY:Free Legal Advice
DESCRIPTION:In need of FREE legal support?\nOur specialist advisors and dedicated volunteers provide free legal support for clients with legal issues relating to consumer\, housing\, or employment law. \nTo enquire and arrange an appointment\, call 020 7473 9681 Monday-Friday\, from 9.30am-5.00pm. \nAlternatively\, you can email us at advice@community-links.org\, or visit us at 105 Barking Road\, London\, E16 4HQ. \nAdvice appointments take place on Mondays and Wednesdays\, 5:30pm-8:30pm.
URL:https://www.community-links.org/event/free-legal-advice/2027-03-22/
LOCATION:Community Links\, 105 Barking Road\, Canning Town\, London\, E16 4HQ\, United Kingdom
ORGANIZER;CN="Advice Service":MAILTO:advice@community-links.org
END:VEVENT
BEGIN:VEVENT
DTSTART;TZID=Europe/London:20270324T160000
DTEND;TZID=Europe/London:20270324T170000
DTSTAMP:20260426T051033
CREATED:20210615T111000Z
LAST-MODIFIED:20210615T111000Z
UID:4326-1805904000-1805907600@www.community-links.org
SUMMARY:Food Bank
DESCRIPTION:
URL:https://www.community-links.org/event/food-bank-2021-09-22/2027-03-24/
LOCATION:Community Links\, 105 Barking Road\, Canning Town\, London\, E16 4HQ\, United Kingdom
ORGANIZER;CN="Advice Service":MAILTO:advice@community-links.org
END:VEVENT
BEGIN:VEVENT
DTSTART;TZID=Europe/London:20270324T173000
DTEND;TZID=Europe/London:20270324T203000
DTSTAMP:20260426T051033
CREATED:20210615T110737Z
LAST-MODIFIED:20210615T110737Z
UID:4324-1805909400-1805920200@www.community-links.org
SUMMARY:Free Legal Advice
DESCRIPTION:In need of FREE legal support?\nOur specialist advisors and dedicated volunteers provide free legal support for clients with legal issues relating to consumer\, housing\, or employment law. \nTo enquire and arrange an appointment\, call 020 7473 9681 Monday-Friday\, from 9.30am-5.00pm. \nAlternatively\, you can email us at advice@community-links.org\, or visit us at 105 Barking Road\, London\, E16 4HQ. \nAdvice appointments take place on Mondays and Wednesdays\, 5:30pm-8:30pm.
URL:https://www.community-links.org/event/free-legal-advice/2027-03-24/
LOCATION:Community Links\, 105 Barking Road\, Canning Town\, London\, E16 4HQ\, United Kingdom
ORGANIZER;CN="Advice Service":MAILTO:advice@community-links.org
END:VEVENT
BEGIN:VEVENT
DTSTART;TZID=Europe/London:20270329T173000
DTEND;TZID=Europe/London:20270329T203000
DTSTAMP:20260426T051033
CREATED:20210615T110737Z
LAST-MODIFIED:20210615T110737Z
UID:4330-1806341400-1806352200@www.community-links.org
SUMMARY:Free Legal Advice
DESCRIPTION:In need of FREE legal support?\nOur specialist advisors and dedicated volunteers provide free legal support for clients with legal issues relating to consumer\, housing\, or employment law. \nTo enquire and arrange an appointment\, call 020 7473 9681 Monday-Friday\, from 9.30am-5.00pm. \nAlternatively\, you can email us at advice@community-links.org\, or visit us at 105 Barking Road\, London\, E16 4HQ. \nAdvice appointments take place on Mondays and Wednesdays\, 5:30pm-8:30pm.
URL:https://www.community-links.org/event/free-legal-advice/2027-03-29/
LOCATION:Community Links\, 105 Barking Road\, Canning Town\, London\, E16 4HQ\, United Kingdom
ORGANIZER;CN="Advice Service":MAILTO:advice@community-links.org
END:VEVENT
BEGIN:VEVENT
DTSTART;TZID=Europe/London:20270331T160000
DTEND;TZID=Europe/London:20270331T170000
DTSTAMP:20260426T051033
CREATED:20210615T111000Z
LAST-MODIFIED:20210615T111000Z
UID:4335-1806508800-1806512400@www.community-links.org
SUMMARY:Food Bank
DESCRIPTION:
URL:https://www.community-links.org/event/food-bank-2021-09-22/2027-03-31/
LOCATION:Community Links\, 105 Barking Road\, Canning Town\, London\, E16 4HQ\, United Kingdom
ORGANIZER;CN="Advice Service":MAILTO:advice@community-links.org
END:VEVENT
BEGIN:VEVENT
DTSTART;TZID=Europe/London:20270331T173000
DTEND;TZID=Europe/London:20270331T203000
DTSTAMP:20260426T051033
CREATED:20210615T110737Z
LAST-MODIFIED:20210615T110737Z
UID:4333-1806514200-1806525000@www.community-links.org
SUMMARY:Free Legal Advice
DESCRIPTION:In need of FREE legal support?\nOur specialist advisors and dedicated volunteers provide free legal support for clients with legal issues relating to consumer\, housing\, or employment law. \nTo enquire and arrange an appointment\, call 020 7473 9681 Monday-Friday\, from 9.30am-5.00pm. \nAlternatively\, you can email us at advice@community-links.org\, or visit us at 105 Barking Road\, London\, E16 4HQ. \nAdvice appointments take place on Mondays and Wednesdays\, 5:30pm-8:30pm.
URL:https://www.community-links.org/event/free-legal-advice/2027-03-31/
LOCATION:Community Links\, 105 Barking Road\, Canning Town\, London\, E16 4HQ\, United Kingdom
ORGANIZER;CN="Advice Service":MAILTO:advice@community-links.org
END:VEVENT
BEGIN:VEVENT
DTSTART;TZID=Europe/London:20270405T173000
DTEND;TZID=Europe/London:20270405T203000
DTSTAMP:20260426T051033
CREATED:20210615T110737Z
LAST-MODIFIED:20210615T110737Z
UID:4339-1806946200-1806957000@www.community-links.org
SUMMARY:Free Legal Advice
DESCRIPTION:In need of FREE legal support?\nOur specialist advisors and dedicated volunteers provide free legal support for clients with legal issues relating to consumer\, housing\, or employment law. \nTo enquire and arrange an appointment\, call 020 7473 9681 Monday-Friday\, from 9.30am-5.00pm. \nAlternatively\, you can email us at advice@community-links.org\, or visit us at 105 Barking Road\, London\, E16 4HQ. \nAdvice appointments take place on Mondays and Wednesdays\, 5:30pm-8:30pm.
URL:https://www.community-links.org/event/free-legal-advice/2027-04-05/
LOCATION:Community Links\, 105 Barking Road\, Canning Town\, London\, E16 4HQ\, United Kingdom
ORGANIZER;CN="Advice Service":MAILTO:advice@community-links.org
END:VEVENT
BEGIN:VEVENT
DTSTART;TZID=Europe/London:20270407T160000
DTEND;TZID=Europe/London:20270407T170000
DTSTAMP:20260426T051033
CREATED:20210615T111000Z
LAST-MODIFIED:20210615T111000Z
UID:4344-1807113600-1807117200@www.community-links.org
SUMMARY:Food Bank
DESCRIPTION:
URL:https://www.community-links.org/event/food-bank-2021-09-22/2027-04-07/
LOCATION:Community Links\, 105 Barking Road\, Canning Town\, London\, E16 4HQ\, United Kingdom
ORGANIZER;CN="Advice Service":MAILTO:advice@community-links.org
END:VEVENT
BEGIN:VEVENT
DTSTART;TZID=Europe/London:20270407T173000
DTEND;TZID=Europe/London:20270407T203000
DTSTAMP:20260426T051033
CREATED:20210615T110737Z
LAST-MODIFIED:20210615T110737Z
UID:4342-1807119000-1807129800@www.community-links.org
SUMMARY:Free Legal Advice
DESCRIPTION:In need of FREE legal support?\nOur specialist advisors and dedicated volunteers provide free legal support for clients with legal issues relating to consumer\, housing\, or employment law. \nTo enquire and arrange an appointment\, call 020 7473 9681 Monday-Friday\, from 9.30am-5.00pm. \nAlternatively\, you can email us at advice@community-links.org\, or visit us at 105 Barking Road\, London\, E16 4HQ. \nAdvice appointments take place on Mondays and Wednesdays\, 5:30pm-8:30pm.
URL:https://www.community-links.org/event/free-legal-advice/2027-04-07/
LOCATION:Community Links\, 105 Barking Road\, Canning Town\, London\, E16 4HQ\, United Kingdom
ORGANIZER;CN="Advice Service":MAILTO:advice@community-links.org
END:VEVENT
BEGIN:VEVENT
DTSTART;TZID=Europe/London:20270412T173000
DTEND;TZID=Europe/London:20270412T203000
DTSTAMP:20260426T051033
CREATED:20210615T110737Z
LAST-MODIFIED:20210615T110737Z
UID:4348-1807551000-1807561800@www.community-links.org
SUMMARY:Free Legal Advice
DESCRIPTION:In need of FREE legal support?\nOur specialist advisors and dedicated volunteers provide free legal support for clients with legal issues relating to consumer\, housing\, or employment law. \nTo enquire and arrange an appointment\, call 020 7473 9681 Monday-Friday\, from 9.30am-5.00pm. \nAlternatively\, you can email us at advice@community-links.org\, or visit us at 105 Barking Road\, London\, E16 4HQ. \nAdvice appointments take place on Mondays and Wednesdays\, 5:30pm-8:30pm.
URL:https://www.community-links.org/event/free-legal-advice/2027-04-12/
LOCATION:Community Links\, 105 Barking Road\, Canning Town\, London\, E16 4HQ\, United Kingdom
ORGANIZER;CN="Advice Service":MAILTO:advice@community-links.org
END:VEVENT
BEGIN:VEVENT
DTSTART;TZID=Europe/London:20270414T160000
DTEND;TZID=Europe/London:20270414T170000
DTSTAMP:20260426T051033
CREATED:20210615T111000Z
LAST-MODIFIED:20210615T111000Z
UID:4353-1807718400-1807722000@www.community-links.org
SUMMARY:Food Bank
DESCRIPTION:
URL:https://www.community-links.org/event/food-bank-2021-09-22/2027-04-14/
LOCATION:Community Links\, 105 Barking Road\, Canning Town\, London\, E16 4HQ\, United Kingdom
ORGANIZER;CN="Advice Service":MAILTO:advice@community-links.org
END:VEVENT
BEGIN:VEVENT
DTSTART;TZID=Europe/London:20270414T173000
DTEND;TZID=Europe/London:20270414T203000
DTSTAMP:20260426T051033
CREATED:20210615T110737Z
LAST-MODIFIED:20210615T110737Z
UID:4351-1807723800-1807734600@www.community-links.org
SUMMARY:Free Legal Advice
DESCRIPTION:In need of FREE legal support?\nOur specialist advisors and dedicated volunteers provide free legal support for clients with legal issues relating to consumer\, housing\, or employment law. \nTo enquire and arrange an appointment\, call 020 7473 9681 Monday-Friday\, from 9.30am-5.00pm. \nAlternatively\, you can email us at advice@community-links.org\, or visit us at 105 Barking Road\, London\, E16 4HQ. \nAdvice appointments take place on Mondays and Wednesdays\, 5:30pm-8:30pm.
URL:https://www.community-links.org/event/free-legal-advice/2027-04-14/
LOCATION:Community Links\, 105 Barking Road\, Canning Town\, London\, E16 4HQ\, United Kingdom
ORGANIZER;CN="Advice Service":MAILTO:advice@community-links.org
END:VEVENT
BEGIN:VEVENT
DTSTART;TZID=Europe/London:20270419T173000
DTEND;TZID=Europe/London:20270419T203000
DTSTAMP:20260426T051033
CREATED:20210615T110737Z
LAST-MODIFIED:20210615T110737Z
UID:4357-1808155800-1808166600@www.community-links.org
SUMMARY:Free Legal Advice
DESCRIPTION:In need of FREE legal support?\nOur specialist advisors and dedicated volunteers provide free legal support for clients with legal issues relating to consumer\, housing\, or employment law. \nTo enquire and arrange an appointment\, call 020 7473 9681 Monday-Friday\, from 9.30am-5.00pm. \nAlternatively\, you can email us at advice@community-links.org\, or visit us at 105 Barking Road\, London\, E16 4HQ. \nAdvice appointments take place on Mondays and Wednesdays\, 5:30pm-8:30pm.
URL:https://www.community-links.org/event/free-legal-advice/2027-04-19/
LOCATION:Community Links\, 105 Barking Road\, Canning Town\, London\, E16 4HQ\, United Kingdom
ORGANIZER;CN="Advice Service":MAILTO:advice@community-links.org
END:VEVENT
BEGIN:VEVENT
DTSTART;TZID=Europe/London:20270421T160000
DTEND;TZID=Europe/London:20270421T170000
DTSTAMP:20260426T051033
CREATED:20210615T111000Z
LAST-MODIFIED:20210615T111000Z
UID:4362-1808323200-1808326800@www.community-links.org
SUMMARY:Food Bank
DESCRIPTION:
URL:https://www.community-links.org/event/food-bank-2021-09-22/2027-04-21/
LOCATION:Community Links\, 105 Barking Road\, Canning Town\, London\, E16 4HQ\, United Kingdom
ORGANIZER;CN="Advice Service":MAILTO:advice@community-links.org
END:VEVENT
BEGIN:VEVENT
DTSTART;TZID=Europe/London:20270421T173000
DTEND;TZID=Europe/London:20270421T203000
DTSTAMP:20260426T051033
CREATED:20210615T110737Z
LAST-MODIFIED:20210615T110737Z
UID:4360-1808328600-1808339400@www.community-links.org
SUMMARY:Free Legal Advice
DESCRIPTION:In need of FREE legal support?\nOur specialist advisors and dedicated volunteers provide free legal support for clients with legal issues relating to consumer\, housing\, or employment law. \nTo enquire and arrange an appointment\, call 020 7473 9681 Monday-Friday\, from 9.30am-5.00pm. \nAlternatively\, you can email us at advice@community-links.org\, or visit us at 105 Barking Road\, London\, E16 4HQ. \nAdvice appointments take place on Mondays and Wednesdays\, 5:30pm-8:30pm.
URL:https://www.community-links.org/event/free-legal-advice/2027-04-21/
LOCATION:Community Links\, 105 Barking Road\, Canning Town\, London\, E16 4HQ\, United Kingdom
ORGANIZER;CN="Advice Service":MAILTO:advice@community-links.org
END:VEVENT
BEGIN:VEVENT
DTSTART;TZID=Europe/London:20270426T173000
DTEND;TZID=Europe/London:20270426T203000
DTSTAMP:20260426T051033
CREATED:20210615T110737Z
LAST-MODIFIED:20210615T110737Z
UID:4366-1808760600-1808771400@www.community-links.org
SUMMARY:Free Legal Advice
DESCRIPTION:In need of FREE legal support?\nOur specialist advisors and dedicated volunteers provide free legal support for clients with legal issues relating to consumer\, housing\, or employment law. \nTo enquire and arrange an appointment\, call 020 7473 9681 Monday-Friday\, from 9.30am-5.00pm. \nAlternatively\, you can email us at advice@community-links.org\, or visit us at 105 Barking Road\, London\, E16 4HQ. \nAdvice appointments take place on Mondays and Wednesdays\, 5:30pm-8:30pm.
URL:https://www.community-links.org/event/free-legal-advice/2027-04-26/
LOCATION:Community Links\, 105 Barking Road\, Canning Town\, London\, E16 4HQ\, United Kingdom
ORGANIZER;CN="Advice Service":MAILTO:advice@community-links.org
END:VEVENT
BEGIN:VEVENT
DTSTART;TZID=Europe/London:20270428T160000
DTEND;TZID=Europe/London:20270428T170000
DTSTAMP:20260426T051033
CREATED:20210615T111000Z
LAST-MODIFIED:20210615T111000Z
UID:4371-1808928000-1808931600@www.community-links.org
SUMMARY:Food Bank
DESCRIPTION:
URL:https://www.community-links.org/event/food-bank-2021-09-22/2027-04-28/
LOCATION:Community Links\, 105 Barking Road\, Canning Town\, London\, E16 4HQ\, United Kingdom
ORGANIZER;CN="Advice Service":MAILTO:advice@community-links.org
END:VEVENT
BEGIN:VEVENT
DTSTART;TZID=Europe/London:20270428T173000
DTEND;TZID=Europe/London:20270428T203000
DTSTAMP:20260426T051033
CREATED:20210615T110737Z
LAST-MODIFIED:20210615T110737Z
UID:4369-1808933400-1808944200@www.community-links.org
SUMMARY:Free Legal Advice
DESCRIPTION:In need of FREE legal support?\nOur specialist advisors and dedicated volunteers provide free legal support for clients with legal issues relating to consumer\, housing\, or employment law. \nTo enquire and arrange an appointment\, call 020 7473 9681 Monday-Friday\, from 9.30am-5.00pm. \nAlternatively\, you can email us at advice@community-links.org\, or visit us at 105 Barking Road\, London\, E16 4HQ. \nAdvice appointments take place on Mondays and Wednesdays\, 5:30pm-8:30pm.
URL:https://www.community-links.org/event/free-legal-advice/2027-04-28/
LOCATION:Community Links\, 105 Barking Road\, Canning Town\, London\, E16 4HQ\, United Kingdom
ORGANIZER;CN="Advice Service":MAILTO:advice@community-links.org
END:VEVENT
BEGIN:VEVENT
DTSTART;TZID=Europe/London:20270503T173000
DTEND;TZID=Europe/London:20270503T203000
DTSTAMP:20260426T051033
CREATED:20210615T110737Z
LAST-MODIFIED:20210615T110737Z
UID:4375-1809365400-1809376200@www.community-links.org
SUMMARY:Free Legal Advice
DESCRIPTION:In need of FREE legal support?\nOur specialist advisors and dedicated volunteers provide free legal support for clients with legal issues relating to consumer\, housing\, or employment law. \nTo enquire and arrange an appointment\, call 020 7473 9681 Monday-Friday\, from 9.30am-5.00pm. \nAlternatively\, you can email us at advice@community-links.org\, or visit us at 105 Barking Road\, London\, E16 4HQ. \nAdvice appointments take place on Mondays and Wednesdays\, 5:30pm-8:30pm.
URL:https://www.community-links.org/event/free-legal-advice/2027-05-03/
LOCATION:Community Links\, 105 Barking Road\, Canning Town\, London\, E16 4HQ\, United Kingdom
ORGANIZER;CN="Advice Service":MAILTO:advice@community-links.org
END:VEVENT
BEGIN:VEVENT
DTSTART;TZID=Europe/London:20270505T160000
DTEND;TZID=Europe/London:20270505T170000
DTSTAMP:20260426T051033
CREATED:20210615T111000Z
LAST-MODIFIED:20210615T111000Z
UID:4380-1809532800-1809536400@www.community-links.org
SUMMARY:Food Bank
DESCRIPTION:
URL:https://www.community-links.org/event/food-bank-2021-09-22/2027-05-05/
LOCATION:Community Links\, 105 Barking Road\, Canning Town\, London\, E16 4HQ\, United Kingdom
ORGANIZER;CN="Advice Service":MAILTO:advice@community-links.org
END:VEVENT
BEGIN:VEVENT
DTSTART;TZID=Europe/London:20270505T173000
DTEND;TZID=Europe/London:20270505T203000
DTSTAMP:20260426T051033
CREATED:20210615T110737Z
LAST-MODIFIED:20210615T110737Z
UID:4378-1809538200-1809549000@www.community-links.org
SUMMARY:Free Legal Advice
DESCRIPTION:In need of FREE legal support?\nOur specialist advisors and dedicated volunteers provide free legal support for clients with legal issues relating to consumer\, housing\, or employment law. \nTo enquire and arrange an appointment\, call 020 7473 9681 Monday-Friday\, from 9.30am-5.00pm. \nAlternatively\, you can email us at advice@community-links.org\, or visit us at 105 Barking Road\, London\, E16 4HQ. \nAdvice appointments take place on Mondays and Wednesdays\, 5:30pm-8:30pm.
URL:https://www.community-links.org/event/free-legal-advice/2027-05-05/
LOCATION:Community Links\, 105 Barking Road\, Canning Town\, London\, E16 4HQ\, United Kingdom
ORGANIZER;CN="Advice Service":MAILTO:advice@community-links.org
END:VEVENT
END:VCALENDAR