BEGIN:VCALENDAR
VERSION:2.0
PRODID:-//Community Links - ECPv6.15.20//NONSGML v1.0//EN
CALSCALE:GREGORIAN
METHOD:PUBLISH
X-WR-CALNAME:Community Links
X-ORIGINAL-URL:https://www.community-links.org
X-WR-CALDESC:Events for Community Links
REFRESH-INTERVAL;VALUE=DURATION:PT1H
X-Robots-Tag:noindex
X-PUBLISHED-TTL:PT1H
BEGIN:VTIMEZONE
TZID:Europe/London
BEGIN:DAYLIGHT
TZOFFSETFROM:+0000
TZOFFSETTO:+0100
TZNAME:BST
DTSTART:20260329T010000
END:DAYLIGHT
BEGIN:STANDARD
TZOFFSETFROM:+0100
TZOFFSETTO:+0000
TZNAME:GMT
DTSTART:20261025T010000
END:STANDARD
BEGIN:DAYLIGHT
TZOFFSETFROM:+0000
TZOFFSETTO:+0100
TZNAME:BST
DTSTART:20270328T010000
END:DAYLIGHT
BEGIN:STANDARD
TZOFFSETFROM:+0100
TZOFFSETTO:+0000
TZNAME:GMT
DTSTART:20271031T010000
END:STANDARD
BEGIN:DAYLIGHT
TZOFFSETFROM:+0000
TZOFFSETTO:+0100
TZNAME:BST
DTSTART:20280326T010000
END:DAYLIGHT
BEGIN:STANDARD
TZOFFSETFROM:+0100
TZOFFSETTO:+0000
TZNAME:GMT
DTSTART:20281029T010000
END:STANDARD
END:VTIMEZONE
BEGIN:VEVENT
DTSTART;TZID=Europe/London:20270331T160000
DTEND;TZID=Europe/London:20270331T170000
DTSTAMP:20260426T021719
CREATED:20210615T111000Z
LAST-MODIFIED:20210615T111000Z
UID:4334-1806508800-1806512400@www.community-links.org
SUMMARY:Food Bank
DESCRIPTION:
URL:https://www.community-links.org/event/food-bank/2027-03-31/
LOCATION:Community Links\, 105 Barking Road\, Canning Town\, London\, E16 4HQ\, United Kingdom
ORGANIZER;CN="Links Studios":MAILTO:links.studios@community-link.org
END:VEVENT
BEGIN:VEVENT
DTSTART;TZID=Europe/London:20270331T160000
DTEND;TZID=Europe/London:20270331T170000
DTSTAMP:20260426T021719
CREATED:20210615T111000Z
LAST-MODIFIED:20210615T111000Z
UID:4335-1806508800-1806512400@www.community-links.org
SUMMARY:Food Bank
DESCRIPTION:
URL:https://www.community-links.org/event/food-bank-2021-09-22/2027-03-31/
LOCATION:Community Links\, 105 Barking Road\, Canning Town\, London\, E16 4HQ\, United Kingdom
ORGANIZER;CN="Advice Service":MAILTO:advice@community-links.org
END:VEVENT
BEGIN:VEVENT
DTSTART;TZID=Europe/London:20270407T160000
DTEND;TZID=Europe/London:20270407T170000
DTSTAMP:20260426T021719
CREATED:20210615T111000Z
LAST-MODIFIED:20210615T111000Z
UID:4343-1807113600-1807117200@www.community-links.org
SUMMARY:Food Bank
DESCRIPTION:
URL:https://www.community-links.org/event/food-bank/2027-04-07/
LOCATION:Community Links\, 105 Barking Road\, Canning Town\, London\, E16 4HQ\, United Kingdom
ORGANIZER;CN="Links Studios":MAILTO:links.studios@community-link.org
END:VEVENT
BEGIN:VEVENT
DTSTART;TZID=Europe/London:20270407T160000
DTEND;TZID=Europe/London:20270407T170000
DTSTAMP:20260426T021719
CREATED:20210615T111000Z
LAST-MODIFIED:20210615T111000Z
UID:4344-1807113600-1807117200@www.community-links.org
SUMMARY:Food Bank
DESCRIPTION:
URL:https://www.community-links.org/event/food-bank-2021-09-22/2027-04-07/
LOCATION:Community Links\, 105 Barking Road\, Canning Town\, London\, E16 4HQ\, United Kingdom
ORGANIZER;CN="Advice Service":MAILTO:advice@community-links.org
END:VEVENT
BEGIN:VEVENT
DTSTART;TZID=Europe/London:20270414T160000
DTEND;TZID=Europe/London:20270414T170000
DTSTAMP:20260426T021719
CREATED:20210615T111000Z
LAST-MODIFIED:20210615T111000Z
UID:4352-1807718400-1807722000@www.community-links.org
SUMMARY:Food Bank
DESCRIPTION:
URL:https://www.community-links.org/event/food-bank/2027-04-14/
LOCATION:Community Links\, 105 Barking Road\, Canning Town\, London\, E16 4HQ\, United Kingdom
ORGANIZER;CN="Links Studios":MAILTO:links.studios@community-link.org
END:VEVENT
BEGIN:VEVENT
DTSTART;TZID=Europe/London:20270414T160000
DTEND;TZID=Europe/London:20270414T170000
DTSTAMP:20260426T021719
CREATED:20210615T111000Z
LAST-MODIFIED:20210615T111000Z
UID:4353-1807718400-1807722000@www.community-links.org
SUMMARY:Food Bank
DESCRIPTION:
URL:https://www.community-links.org/event/food-bank-2021-09-22/2027-04-14/
LOCATION:Community Links\, 105 Barking Road\, Canning Town\, London\, E16 4HQ\, United Kingdom
ORGANIZER;CN="Advice Service":MAILTO:advice@community-links.org
END:VEVENT
BEGIN:VEVENT
DTSTART;TZID=Europe/London:20270421T160000
DTEND;TZID=Europe/London:20270421T170000
DTSTAMP:20260426T021719
CREATED:20210615T111000Z
LAST-MODIFIED:20210615T111000Z
UID:4361-1808323200-1808326800@www.community-links.org
SUMMARY:Food Bank
DESCRIPTION:
URL:https://www.community-links.org/event/food-bank/2027-04-21/
LOCATION:Community Links\, 105 Barking Road\, Canning Town\, London\, E16 4HQ\, United Kingdom
ORGANIZER;CN="Links Studios":MAILTO:links.studios@community-link.org
END:VEVENT
BEGIN:VEVENT
DTSTART;TZID=Europe/London:20270421T160000
DTEND;TZID=Europe/London:20270421T170000
DTSTAMP:20260426T021719
CREATED:20210615T111000Z
LAST-MODIFIED:20210615T111000Z
UID:4362-1808323200-1808326800@www.community-links.org
SUMMARY:Food Bank
DESCRIPTION:
URL:https://www.community-links.org/event/food-bank-2021-09-22/2027-04-21/
LOCATION:Community Links\, 105 Barking Road\, Canning Town\, London\, E16 4HQ\, United Kingdom
ORGANIZER;CN="Advice Service":MAILTO:advice@community-links.org
END:VEVENT
BEGIN:VEVENT
DTSTART;TZID=Europe/London:20270428T160000
DTEND;TZID=Europe/London:20270428T170000
DTSTAMP:20260426T021719
CREATED:20210615T111000Z
LAST-MODIFIED:20210615T111000Z
UID:4370-1808928000-1808931600@www.community-links.org
SUMMARY:Food Bank
DESCRIPTION:
URL:https://www.community-links.org/event/food-bank/2027-04-28/
LOCATION:Community Links\, 105 Barking Road\, Canning Town\, London\, E16 4HQ\, United Kingdom
ORGANIZER;CN="Links Studios":MAILTO:links.studios@community-link.org
END:VEVENT
BEGIN:VEVENT
DTSTART;TZID=Europe/London:20270428T160000
DTEND;TZID=Europe/London:20270428T170000
DTSTAMP:20260426T021719
CREATED:20210615T111000Z
LAST-MODIFIED:20210615T111000Z
UID:4371-1808928000-1808931600@www.community-links.org
SUMMARY:Food Bank
DESCRIPTION:
URL:https://www.community-links.org/event/food-bank-2021-09-22/2027-04-28/
LOCATION:Community Links\, 105 Barking Road\, Canning Town\, London\, E16 4HQ\, United Kingdom
ORGANIZER;CN="Advice Service":MAILTO:advice@community-links.org
END:VEVENT
BEGIN:VEVENT
DTSTART;TZID=Europe/London:20270505T160000
DTEND;TZID=Europe/London:20270505T170000
DTSTAMP:20260426T021719
CREATED:20210615T111000Z
LAST-MODIFIED:20210615T111000Z
UID:4379-1809532800-1809536400@www.community-links.org
SUMMARY:Food Bank
DESCRIPTION:
URL:https://www.community-links.org/event/food-bank/2027-05-05/
LOCATION:Community Links\, 105 Barking Road\, Canning Town\, London\, E16 4HQ\, United Kingdom
ORGANIZER;CN="Links Studios":MAILTO:links.studios@community-link.org
END:VEVENT
BEGIN:VEVENT
DTSTART;TZID=Europe/London:20270505T160000
DTEND;TZID=Europe/London:20270505T170000
DTSTAMP:20260426T021719
CREATED:20210615T111000Z
LAST-MODIFIED:20210615T111000Z
UID:4380-1809532800-1809536400@www.community-links.org
SUMMARY:Food Bank
DESCRIPTION:
URL:https://www.community-links.org/event/food-bank-2021-09-22/2027-05-05/
LOCATION:Community Links\, 105 Barking Road\, Canning Town\, London\, E16 4HQ\, United Kingdom
ORGANIZER;CN="Advice Service":MAILTO:advice@community-links.org
END:VEVENT
BEGIN:VEVENT
DTSTART;TZID=Europe/London:20270512T160000
DTEND;TZID=Europe/London:20270512T170000
DTSTAMP:20260426T021719
CREATED:20210615T111000Z
LAST-MODIFIED:20210615T111000Z
UID:4421-1810137600-1810141200@www.community-links.org
SUMMARY:Food Bank
DESCRIPTION:
URL:https://www.community-links.org/event/food-bank/2027-05-12/
LOCATION:Community Links\, 105 Barking Road\, Canning Town\, London\, E16 4HQ\, United Kingdom
ORGANIZER;CN="Links Studios":MAILTO:links.studios@community-link.org
END:VEVENT
BEGIN:VEVENT
DTSTART;TZID=Europe/London:20270512T160000
DTEND;TZID=Europe/London:20270512T170000
DTSTAMP:20260426T021719
CREATED:20210615T111000Z
LAST-MODIFIED:20210615T111000Z
UID:4422-1810137600-1810141200@www.community-links.org
SUMMARY:Food Bank
DESCRIPTION:
URL:https://www.community-links.org/event/food-bank-2021-09-22/2027-05-12/
LOCATION:Community Links\, 105 Barking Road\, Canning Town\, London\, E16 4HQ\, United Kingdom
ORGANIZER;CN="Advice Service":MAILTO:advice@community-links.org
END:VEVENT
BEGIN:VEVENT
DTSTART;TZID=Europe/London:20270519T160000
DTEND;TZID=Europe/London:20270519T170000
DTSTAMP:20260426T021719
CREATED:20210615T111000Z
LAST-MODIFIED:20210615T111000Z
UID:4430-1810742400-1810746000@www.community-links.org
SUMMARY:Food Bank
DESCRIPTION:
URL:https://www.community-links.org/event/food-bank/2027-05-19/
LOCATION:Community Links\, 105 Barking Road\, Canning Town\, London\, E16 4HQ\, United Kingdom
ORGANIZER;CN="Links Studios":MAILTO:links.studios@community-link.org
END:VEVENT
BEGIN:VEVENT
DTSTART;TZID=Europe/London:20270519T160000
DTEND;TZID=Europe/London:20270519T170000
DTSTAMP:20260426T021719
CREATED:20210615T111000Z
LAST-MODIFIED:20210615T111000Z
UID:4431-1810742400-1810746000@www.community-links.org
SUMMARY:Food Bank
DESCRIPTION:
URL:https://www.community-links.org/event/food-bank-2021-09-22/2027-05-19/
LOCATION:Community Links\, 105 Barking Road\, Canning Town\, London\, E16 4HQ\, United Kingdom
ORGANIZER;CN="Advice Service":MAILTO:advice@community-links.org
END:VEVENT
BEGIN:VEVENT
DTSTART;TZID=Europe/London:20270526T160000
DTEND;TZID=Europe/London:20270526T170000
DTSTAMP:20260426T021719
CREATED:20210615T111000Z
LAST-MODIFIED:20210615T111000Z
UID:4439-1811347200-1811350800@www.community-links.org
SUMMARY:Food Bank
DESCRIPTION:
URL:https://www.community-links.org/event/food-bank/2027-05-26/
LOCATION:Community Links\, 105 Barking Road\, Canning Town\, London\, E16 4HQ\, United Kingdom
ORGANIZER;CN="Links Studios":MAILTO:links.studios@community-link.org
END:VEVENT
BEGIN:VEVENT
DTSTART;TZID=Europe/London:20270526T160000
DTEND;TZID=Europe/London:20270526T170000
DTSTAMP:20260426T021719
CREATED:20210615T111000Z
LAST-MODIFIED:20210615T111000Z
UID:4442-1811347200-1811350800@www.community-links.org
SUMMARY:Food Bank
DESCRIPTION:
URL:https://www.community-links.org/event/food-bank-2021-09-22/2027-05-26/
LOCATION:Community Links\, 105 Barking Road\, Canning Town\, London\, E16 4HQ\, United Kingdom
ORGANIZER;CN="Advice Service":MAILTO:advice@community-links.org
END:VEVENT
BEGIN:VEVENT
DTSTART;TZID=Europe/London:20270602T160000
DTEND;TZID=Europe/London:20270602T170000
DTSTAMP:20260426T021719
CREATED:20210615T111000Z
LAST-MODIFIED:20210615T111000Z
UID:4440-1811952000-1811955600@www.community-links.org
SUMMARY:Food Bank
DESCRIPTION:
URL:https://www.community-links.org/event/food-bank/2027-06-02/
LOCATION:Community Links\, 105 Barking Road\, Canning Town\, London\, E16 4HQ\, United Kingdom
ORGANIZER;CN="Links Studios":MAILTO:links.studios@community-link.org
END:VEVENT
BEGIN:VEVENT
DTSTART;TZID=Europe/London:20270602T160000
DTEND;TZID=Europe/London:20270602T170000
DTSTAMP:20260426T021719
CREATED:20210615T111000Z
LAST-MODIFIED:20210615T111000Z
UID:4443-1811952000-1811955600@www.community-links.org
SUMMARY:Food Bank
DESCRIPTION:
URL:https://www.community-links.org/event/food-bank-2021-09-22/2027-06-02/
LOCATION:Community Links\, 105 Barking Road\, Canning Town\, London\, E16 4HQ\, United Kingdom
ORGANIZER;CN="Advice Service":MAILTO:advice@community-links.org
END:VEVENT
BEGIN:VEVENT
DTSTART;TZID=Europe/London:20270609T160000
DTEND;TZID=Europe/London:20270609T170000
DTSTAMP:20260426T021719
CREATED:20210615T111000Z
LAST-MODIFIED:20210615T111000Z
UID:4441-1812556800-1812560400@www.community-links.org
SUMMARY:Food Bank
DESCRIPTION:
URL:https://www.community-links.org/event/food-bank/2027-06-09/
LOCATION:Community Links\, 105 Barking Road\, Canning Town\, London\, E16 4HQ\, United Kingdom
ORGANIZER;CN="Links Studios":MAILTO:links.studios@community-link.org
END:VEVENT
BEGIN:VEVENT
DTSTART;TZID=Europe/London:20270609T160000
DTEND;TZID=Europe/London:20270609T170000
DTSTAMP:20260426T021719
CREATED:20210615T111000Z
LAST-MODIFIED:20210615T111000Z
UID:4444-1812556800-1812560400@www.community-links.org
SUMMARY:Food Bank
DESCRIPTION:
URL:https://www.community-links.org/event/food-bank-2021-09-22/2027-06-09/
LOCATION:Community Links\, 105 Barking Road\, Canning Town\, London\, E16 4HQ\, United Kingdom
ORGANIZER;CN="Advice Service":MAILTO:advice@community-links.org
END:VEVENT
BEGIN:VEVENT
DTSTART;TZID=Europe/London:20270616T160000
DTEND;TZID=Europe/London:20270616T170000
DTSTAMP:20260426T021719
CREATED:20210615T111000Z
LAST-MODIFIED:20210615T111000Z
UID:4466-1813161600-1813165200@www.community-links.org
SUMMARY:Food Bank
DESCRIPTION:
URL:https://www.community-links.org/event/food-bank/2027-06-16/
LOCATION:Community Links\, 105 Barking Road\, Canning Town\, London\, E16 4HQ\, United Kingdom
ORGANIZER;CN="Links Studios":MAILTO:links.studios@community-link.org
END:VEVENT
BEGIN:VEVENT
DTSTART;TZID=Europe/London:20270616T160000
DTEND;TZID=Europe/London:20270616T170000
DTSTAMP:20260426T021719
CREATED:20210615T111000Z
LAST-MODIFIED:20210615T111000Z
UID:4467-1813161600-1813165200@www.community-links.org
SUMMARY:Food Bank
DESCRIPTION:
URL:https://www.community-links.org/event/food-bank-2021-09-22/2027-06-16/
LOCATION:Community Links\, 105 Barking Road\, Canning Town\, London\, E16 4HQ\, United Kingdom
ORGANIZER;CN="Advice Service":MAILTO:advice@community-links.org
END:VEVENT
BEGIN:VEVENT
DTSTART;TZID=Europe/London:20270623T160000
DTEND;TZID=Europe/London:20270623T170000
DTSTAMP:20260426T021719
CREATED:20210615T111000Z
LAST-MODIFIED:20210615T111000Z
UID:4475-1813766400-1813770000@www.community-links.org
SUMMARY:Food Bank
DESCRIPTION:
URL:https://www.community-links.org/event/food-bank/2027-06-23/
LOCATION:Community Links\, 105 Barking Road\, Canning Town\, London\, E16 4HQ\, United Kingdom
ORGANIZER;CN="Links Studios":MAILTO:links.studios@community-link.org
END:VEVENT
BEGIN:VEVENT
DTSTART;TZID=Europe/London:20270623T160000
DTEND;TZID=Europe/London:20270623T170000
DTSTAMP:20260426T021719
CREATED:20210615T111000Z
LAST-MODIFIED:20210615T111000Z
UID:4476-1813766400-1813770000@www.community-links.org
SUMMARY:Food Bank
DESCRIPTION:
URL:https://www.community-links.org/event/food-bank-2021-09-22/2027-06-23/
LOCATION:Community Links\, 105 Barking Road\, Canning Town\, London\, E16 4HQ\, United Kingdom
ORGANIZER;CN="Advice Service":MAILTO:advice@community-links.org
END:VEVENT
BEGIN:VEVENT
DTSTART;TZID=Europe/London:20270630T160000
DTEND;TZID=Europe/London:20270630T170000
DTSTAMP:20260426T021719
CREATED:20210615T111000Z
LAST-MODIFIED:20210615T111000Z
UID:4484-1814371200-1814374800@www.community-links.org
SUMMARY:Food Bank
DESCRIPTION:
URL:https://www.community-links.org/event/food-bank/2027-06-30/
LOCATION:Community Links\, 105 Barking Road\, Canning Town\, London\, E16 4HQ\, United Kingdom
ORGANIZER;CN="Links Studios":MAILTO:links.studios@community-link.org
END:VEVENT
BEGIN:VEVENT
DTSTART;TZID=Europe/London:20270630T160000
DTEND;TZID=Europe/London:20270630T170000
DTSTAMP:20260426T021719
CREATED:20210615T111000Z
LAST-MODIFIED:20210615T111000Z
UID:4485-1814371200-1814374800@www.community-links.org
SUMMARY:Food Bank
DESCRIPTION:
URL:https://www.community-links.org/event/food-bank-2021-09-22/2027-06-30/
LOCATION:Community Links\, 105 Barking Road\, Canning Town\, London\, E16 4HQ\, United Kingdom
ORGANIZER;CN="Advice Service":MAILTO:advice@community-links.org
END:VEVENT
BEGIN:VEVENT
DTSTART;TZID=Europe/London:20270707T160000
DTEND;TZID=Europe/London:20270707T170000
DTSTAMP:20260426T021719
CREATED:20210615T111000Z
LAST-MODIFIED:20210615T111000Z
UID:4494-1814976000-1814979600@www.community-links.org
SUMMARY:Food Bank
DESCRIPTION:
URL:https://www.community-links.org/event/food-bank/2027-07-07/
LOCATION:Community Links\, 105 Barking Road\, Canning Town\, London\, E16 4HQ\, United Kingdom
ORGANIZER;CN="Links Studios":MAILTO:links.studios@community-link.org
END:VEVENT
BEGIN:VEVENT
DTSTART;TZID=Europe/London:20270707T160000
DTEND;TZID=Europe/London:20270707T170000
DTSTAMP:20260426T021719
CREATED:20210615T111000Z
LAST-MODIFIED:20210615T111000Z
UID:4495-1814976000-1814979600@www.community-links.org
SUMMARY:Food Bank
DESCRIPTION:
URL:https://www.community-links.org/event/food-bank-2021-09-22/2027-07-07/
LOCATION:Community Links\, 105 Barking Road\, Canning Town\, London\, E16 4HQ\, United Kingdom
ORGANIZER;CN="Advice Service":MAILTO:advice@community-links.org
END:VEVENT
END:VCALENDAR