BEGIN:VCALENDAR
VERSION:2.0
PRODID:-//Community Links - ECPv6.15.20//NONSGML v1.0//EN
CALSCALE:GREGORIAN
METHOD:PUBLISH
X-WR-CALNAME:Community Links
X-ORIGINAL-URL:https://www.community-links.org
X-WR-CALDESC:Events for Community Links
REFRESH-INTERVAL;VALUE=DURATION:PT1H
X-Robots-Tag:noindex
X-PUBLISHED-TTL:PT1H
BEGIN:VTIMEZONE
TZID:Europe/London
BEGIN:DAYLIGHT
TZOFFSETFROM:+0000
TZOFFSETTO:+0100
TZNAME:BST
DTSTART:20260329T010000
END:DAYLIGHT
BEGIN:STANDARD
TZOFFSETFROM:+0100
TZOFFSETTO:+0000
TZNAME:GMT
DTSTART:20261025T010000
END:STANDARD
BEGIN:DAYLIGHT
TZOFFSETFROM:+0000
TZOFFSETTO:+0100
TZNAME:BST
DTSTART:20270328T010000
END:DAYLIGHT
BEGIN:STANDARD
TZOFFSETFROM:+0100
TZOFFSETTO:+0000
TZNAME:GMT
DTSTART:20271031T010000
END:STANDARD
BEGIN:DAYLIGHT
TZOFFSETFROM:+0000
TZOFFSETTO:+0100
TZNAME:BST
DTSTART:20280326T010000
END:DAYLIGHT
BEGIN:STANDARD
TZOFFSETFROM:+0100
TZOFFSETTO:+0000
TZNAME:GMT
DTSTART:20281029T010000
END:STANDARD
END:VTIMEZONE
BEGIN:VEVENT
DTSTART;TZID=Europe/London:20270106T160000
DTEND;TZID=Europe/London:20270106T170000
DTSTAMP:20260425T231606
CREATED:20210615T111000Z
LAST-MODIFIED:20210615T111000Z
UID:4213-1799251200-1799254800@www.community-links.org
SUMMARY:Food Bank
DESCRIPTION:
URL:https://www.community-links.org/event/food-bank/2027-01-06/
LOCATION:Community Links\, 105 Barking Road\, Canning Town\, London\, E16 4HQ\, United Kingdom
ORGANIZER;CN="Links Studios":MAILTO:links.studios@community-link.org
END:VEVENT
BEGIN:VEVENT
DTSTART;TZID=Europe/London:20270106T160000
DTEND;TZID=Europe/London:20270106T170000
DTSTAMP:20260425T231606
CREATED:20210615T111000Z
LAST-MODIFIED:20210615T111000Z
UID:4214-1799251200-1799254800@www.community-links.org
SUMMARY:Food Bank
DESCRIPTION:
URL:https://www.community-links.org/event/food-bank-2021-09-22/2027-01-06/
LOCATION:Community Links\, 105 Barking Road\, Canning Town\, London\, E16 4HQ\, United Kingdom
ORGANIZER;CN="Advice Service":MAILTO:advice@community-links.org
END:VEVENT
BEGIN:VEVENT
DTSTART;TZID=Europe/London:20270113T160000
DTEND;TZID=Europe/London:20270113T170000
DTSTAMP:20260425T231606
CREATED:20210615T111000Z
LAST-MODIFIED:20210615T111000Z
UID:4227-1799856000-1799859600@www.community-links.org
SUMMARY:Food Bank
DESCRIPTION:
URL:https://www.community-links.org/event/food-bank/2027-01-13/
LOCATION:Community Links\, 105 Barking Road\, Canning Town\, London\, E16 4HQ\, United Kingdom
ORGANIZER;CN="Links Studios":MAILTO:links.studios@community-link.org
END:VEVENT
BEGIN:VEVENT
DTSTART;TZID=Europe/London:20270113T160000
DTEND;TZID=Europe/London:20270113T170000
DTSTAMP:20260425T231606
CREATED:20210615T111000Z
LAST-MODIFIED:20210615T111000Z
UID:4228-1799856000-1799859600@www.community-links.org
SUMMARY:Food Bank
DESCRIPTION:
URL:https://www.community-links.org/event/food-bank-2021-09-22/2027-01-13/
LOCATION:Community Links\, 105 Barking Road\, Canning Town\, London\, E16 4HQ\, United Kingdom
ORGANIZER;CN="Advice Service":MAILTO:advice@community-links.org
END:VEVENT
BEGIN:VEVENT
DTSTART;TZID=Europe/London:20270120T160000
DTEND;TZID=Europe/London:20270120T170000
DTSTAMP:20260425T231606
CREATED:20210615T111000Z
LAST-MODIFIED:20210615T111000Z
UID:4236-1800460800-1800464400@www.community-links.org
SUMMARY:Food Bank
DESCRIPTION:
URL:https://www.community-links.org/event/food-bank/2027-01-20/
LOCATION:Community Links\, 105 Barking Road\, Canning Town\, London\, E16 4HQ\, United Kingdom
ORGANIZER;CN="Links Studios":MAILTO:links.studios@community-link.org
END:VEVENT
BEGIN:VEVENT
DTSTART;TZID=Europe/London:20270120T160000
DTEND;TZID=Europe/London:20270120T170000
DTSTAMP:20260425T231606
CREATED:20210615T111000Z
LAST-MODIFIED:20210615T111000Z
UID:4237-1800460800-1800464400@www.community-links.org
SUMMARY:Food Bank
DESCRIPTION:
URL:https://www.community-links.org/event/food-bank-2021-09-22/2027-01-20/
LOCATION:Community Links\, 105 Barking Road\, Canning Town\, London\, E16 4HQ\, United Kingdom
ORGANIZER;CN="Advice Service":MAILTO:advice@community-links.org
END:VEVENT
BEGIN:VEVENT
DTSTART;TZID=Europe/London:20270127T160000
DTEND;TZID=Europe/London:20270127T170000
DTSTAMP:20260425T231606
CREATED:20210615T111000Z
LAST-MODIFIED:20210615T111000Z
UID:4252-1801065600-1801069200@www.community-links.org
SUMMARY:Food Bank
DESCRIPTION:
URL:https://www.community-links.org/event/food-bank/2027-01-27/
LOCATION:Community Links\, 105 Barking Road\, Canning Town\, London\, E16 4HQ\, United Kingdom
ORGANIZER;CN="Links Studios":MAILTO:links.studios@community-link.org
END:VEVENT
BEGIN:VEVENT
DTSTART;TZID=Europe/London:20270127T160000
DTEND;TZID=Europe/London:20270127T170000
DTSTAMP:20260425T231606
CREATED:20210615T111000Z
LAST-MODIFIED:20210615T111000Z
UID:4253-1801065600-1801069200@www.community-links.org
SUMMARY:Food Bank
DESCRIPTION:
URL:https://www.community-links.org/event/food-bank-2021-09-22/2027-01-27/
LOCATION:Community Links\, 105 Barking Road\, Canning Town\, London\, E16 4HQ\, United Kingdom
ORGANIZER;CN="Advice Service":MAILTO:advice@community-links.org
END:VEVENT
BEGIN:VEVENT
DTSTART;TZID=Europe/London:20270203T160000
DTEND;TZID=Europe/London:20270203T170000
DTSTAMP:20260425T231606
CREATED:20210615T111000Z
LAST-MODIFIED:20210615T111000Z
UID:4261-1801670400-1801674000@www.community-links.org
SUMMARY:Food Bank
DESCRIPTION:
URL:https://www.community-links.org/event/food-bank/2027-02-03/
LOCATION:Community Links\, 105 Barking Road\, Canning Town\, London\, E16 4HQ\, United Kingdom
ORGANIZER;CN="Links Studios":MAILTO:links.studios@community-link.org
END:VEVENT
BEGIN:VEVENT
DTSTART;TZID=Europe/London:20270203T160000
DTEND;TZID=Europe/London:20270203T170000
DTSTAMP:20260425T231606
CREATED:20210615T111000Z
LAST-MODIFIED:20210615T111000Z
UID:4262-1801670400-1801674000@www.community-links.org
SUMMARY:Food Bank
DESCRIPTION:
URL:https://www.community-links.org/event/food-bank-2021-09-22/2027-02-03/
LOCATION:Community Links\, 105 Barking Road\, Canning Town\, London\, E16 4HQ\, United Kingdom
ORGANIZER;CN="Advice Service":MAILTO:advice@community-links.org
END:VEVENT
BEGIN:VEVENT
DTSTART;TZID=Europe/London:20270210T160000
DTEND;TZID=Europe/London:20270210T170000
DTSTAMP:20260425T231606
CREATED:20210615T111000Z
LAST-MODIFIED:20210615T111000Z
UID:4270-1802275200-1802278800@www.community-links.org
SUMMARY:Food Bank
DESCRIPTION:
URL:https://www.community-links.org/event/food-bank/2027-02-10/
LOCATION:Community Links\, 105 Barking Road\, Canning Town\, London\, E16 4HQ\, United Kingdom
ORGANIZER;CN="Links Studios":MAILTO:links.studios@community-link.org
END:VEVENT
BEGIN:VEVENT
DTSTART;TZID=Europe/London:20270210T160000
DTEND;TZID=Europe/London:20270210T170000
DTSTAMP:20260425T231606
CREATED:20210615T111000Z
LAST-MODIFIED:20210615T111000Z
UID:4271-1802275200-1802278800@www.community-links.org
SUMMARY:Food Bank
DESCRIPTION:
URL:https://www.community-links.org/event/food-bank-2021-09-22/2027-02-10/
LOCATION:Community Links\, 105 Barking Road\, Canning Town\, London\, E16 4HQ\, United Kingdom
ORGANIZER;CN="Advice Service":MAILTO:advice@community-links.org
END:VEVENT
BEGIN:VEVENT
DTSTART;TZID=Europe/London:20270217T160000
DTEND;TZID=Europe/London:20270217T170000
DTSTAMP:20260425T231606
CREATED:20210615T111000Z
LAST-MODIFIED:20210615T111000Z
UID:4280-1802880000-1802883600@www.community-links.org
SUMMARY:Food Bank
DESCRIPTION:
URL:https://www.community-links.org/event/food-bank/2027-02-17/
LOCATION:Community Links\, 105 Barking Road\, Canning Town\, London\, E16 4HQ\, United Kingdom
ORGANIZER;CN="Links Studios":MAILTO:links.studios@community-link.org
END:VEVENT
BEGIN:VEVENT
DTSTART;TZID=Europe/London:20270217T160000
DTEND;TZID=Europe/London:20270217T170000
DTSTAMP:20260425T231606
CREATED:20210615T111000Z
LAST-MODIFIED:20210615T111000Z
UID:4281-1802880000-1802883600@www.community-links.org
SUMMARY:Food Bank
DESCRIPTION:
URL:https://www.community-links.org/event/food-bank-2021-09-22/2027-02-17/
LOCATION:Community Links\, 105 Barking Road\, Canning Town\, London\, E16 4HQ\, United Kingdom
ORGANIZER;CN="Advice Service":MAILTO:advice@community-links.org
END:VEVENT
BEGIN:VEVENT
DTSTART;TZID=Europe/London:20270224T160000
DTEND;TZID=Europe/London:20270224T170000
DTSTAMP:20260425T231606
CREATED:20210615T111000Z
LAST-MODIFIED:20210615T111000Z
UID:4289-1803484800-1803488400@www.community-links.org
SUMMARY:Food Bank
DESCRIPTION:
URL:https://www.community-links.org/event/food-bank/2027-02-24/
LOCATION:Community Links\, 105 Barking Road\, Canning Town\, London\, E16 4HQ\, United Kingdom
ORGANIZER;CN="Links Studios":MAILTO:links.studios@community-link.org
END:VEVENT
BEGIN:VEVENT
DTSTART;TZID=Europe/London:20270224T160000
DTEND;TZID=Europe/London:20270224T170000
DTSTAMP:20260425T231606
CREATED:20210615T111000Z
LAST-MODIFIED:20210615T111000Z
UID:4290-1803484800-1803488400@www.community-links.org
SUMMARY:Food Bank
DESCRIPTION:
URL:https://www.community-links.org/event/food-bank-2021-09-22/2027-02-24/
LOCATION:Community Links\, 105 Barking Road\, Canning Town\, London\, E16 4HQ\, United Kingdom
ORGANIZER;CN="Advice Service":MAILTO:advice@community-links.org
END:VEVENT
BEGIN:VEVENT
DTSTART;TZID=Europe/London:20270303T160000
DTEND;TZID=Europe/London:20270303T170000
DTSTAMP:20260425T231606
CREATED:20210615T111000Z
LAST-MODIFIED:20210615T111000Z
UID:4298-1804089600-1804093200@www.community-links.org
SUMMARY:Food Bank
DESCRIPTION:
URL:https://www.community-links.org/event/food-bank/2027-03-03/
LOCATION:Community Links\, 105 Barking Road\, Canning Town\, London\, E16 4HQ\, United Kingdom
ORGANIZER;CN="Links Studios":MAILTO:links.studios@community-link.org
END:VEVENT
BEGIN:VEVENT
DTSTART;TZID=Europe/London:20270303T160000
DTEND;TZID=Europe/London:20270303T170000
DTSTAMP:20260425T231606
CREATED:20210615T111000Z
LAST-MODIFIED:20210615T111000Z
UID:4299-1804089600-1804093200@www.community-links.org
SUMMARY:Food Bank
DESCRIPTION:
URL:https://www.community-links.org/event/food-bank-2021-09-22/2027-03-03/
LOCATION:Community Links\, 105 Barking Road\, Canning Town\, London\, E16 4HQ\, United Kingdom
ORGANIZER;CN="Advice Service":MAILTO:advice@community-links.org
END:VEVENT
BEGIN:VEVENT
DTSTART;TZID=Europe/London:20270310T160000
DTEND;TZID=Europe/London:20270310T170000
DTSTAMP:20260425T231606
CREATED:20210615T111000Z
LAST-MODIFIED:20210615T111000Z
UID:4307-1804694400-1804698000@www.community-links.org
SUMMARY:Food Bank
DESCRIPTION:
URL:https://www.community-links.org/event/food-bank/2027-03-10/
LOCATION:Community Links\, 105 Barking Road\, Canning Town\, London\, E16 4HQ\, United Kingdom
ORGANIZER;CN="Links Studios":MAILTO:links.studios@community-link.org
END:VEVENT
BEGIN:VEVENT
DTSTART;TZID=Europe/London:20270310T160000
DTEND;TZID=Europe/London:20270310T170000
DTSTAMP:20260425T231606
CREATED:20210615T111000Z
LAST-MODIFIED:20210615T111000Z
UID:4308-1804694400-1804698000@www.community-links.org
SUMMARY:Food Bank
DESCRIPTION:
URL:https://www.community-links.org/event/food-bank-2021-09-22/2027-03-10/
LOCATION:Community Links\, 105 Barking Road\, Canning Town\, London\, E16 4HQ\, United Kingdom
ORGANIZER;CN="Advice Service":MAILTO:advice@community-links.org
END:VEVENT
BEGIN:VEVENT
DTSTART;TZID=Europe/London:20270317T160000
DTEND;TZID=Europe/London:20270317T170000
DTSTAMP:20260425T231606
CREATED:20210615T111000Z
LAST-MODIFIED:20210615T111000Z
UID:4316-1805299200-1805302800@www.community-links.org
SUMMARY:Food Bank
DESCRIPTION:
URL:https://www.community-links.org/event/food-bank/2027-03-17/
LOCATION:Community Links\, 105 Barking Road\, Canning Town\, London\, E16 4HQ\, United Kingdom
ORGANIZER;CN="Links Studios":MAILTO:links.studios@community-link.org
END:VEVENT
BEGIN:VEVENT
DTSTART;TZID=Europe/London:20270317T160000
DTEND;TZID=Europe/London:20270317T170000
DTSTAMP:20260425T231606
CREATED:20210615T111000Z
LAST-MODIFIED:20210615T111000Z
UID:4317-1805299200-1805302800@www.community-links.org
SUMMARY:Food Bank
DESCRIPTION:
URL:https://www.community-links.org/event/food-bank-2021-09-22/2027-03-17/
LOCATION:Community Links\, 105 Barking Road\, Canning Town\, London\, E16 4HQ\, United Kingdom
ORGANIZER;CN="Advice Service":MAILTO:advice@community-links.org
END:VEVENT
BEGIN:VEVENT
DTSTART;TZID=Europe/London:20270324T160000
DTEND;TZID=Europe/London:20270324T170000
DTSTAMP:20260425T231606
CREATED:20210615T111000Z
LAST-MODIFIED:20210615T111000Z
UID:4325-1805904000-1805907600@www.community-links.org
SUMMARY:Food Bank
DESCRIPTION:
URL:https://www.community-links.org/event/food-bank/2027-03-24/
LOCATION:Community Links\, 105 Barking Road\, Canning Town\, London\, E16 4HQ\, United Kingdom
ORGANIZER;CN="Links Studios":MAILTO:links.studios@community-link.org
END:VEVENT
BEGIN:VEVENT
DTSTART;TZID=Europe/London:20270324T160000
DTEND;TZID=Europe/London:20270324T170000
DTSTAMP:20260425T231606
CREATED:20210615T111000Z
LAST-MODIFIED:20210615T111000Z
UID:4326-1805904000-1805907600@www.community-links.org
SUMMARY:Food Bank
DESCRIPTION:
URL:https://www.community-links.org/event/food-bank-2021-09-22/2027-03-24/
LOCATION:Community Links\, 105 Barking Road\, Canning Town\, London\, E16 4HQ\, United Kingdom
ORGANIZER;CN="Advice Service":MAILTO:advice@community-links.org
END:VEVENT
BEGIN:VEVENT
DTSTART;TZID=Europe/London:20270331T160000
DTEND;TZID=Europe/London:20270331T170000
DTSTAMP:20260425T231606
CREATED:20210615T111000Z
LAST-MODIFIED:20210615T111000Z
UID:4334-1806508800-1806512400@www.community-links.org
SUMMARY:Food Bank
DESCRIPTION:
URL:https://www.community-links.org/event/food-bank/2027-03-31/
LOCATION:Community Links\, 105 Barking Road\, Canning Town\, London\, E16 4HQ\, United Kingdom
ORGANIZER;CN="Links Studios":MAILTO:links.studios@community-link.org
END:VEVENT
BEGIN:VEVENT
DTSTART;TZID=Europe/London:20270331T160000
DTEND;TZID=Europe/London:20270331T170000
DTSTAMP:20260425T231606
CREATED:20210615T111000Z
LAST-MODIFIED:20210615T111000Z
UID:4335-1806508800-1806512400@www.community-links.org
SUMMARY:Food Bank
DESCRIPTION:
URL:https://www.community-links.org/event/food-bank-2021-09-22/2027-03-31/
LOCATION:Community Links\, 105 Barking Road\, Canning Town\, London\, E16 4HQ\, United Kingdom
ORGANIZER;CN="Advice Service":MAILTO:advice@community-links.org
END:VEVENT
BEGIN:VEVENT
DTSTART;TZID=Europe/London:20270407T160000
DTEND;TZID=Europe/London:20270407T170000
DTSTAMP:20260425T231606
CREATED:20210615T111000Z
LAST-MODIFIED:20210615T111000Z
UID:4343-1807113600-1807117200@www.community-links.org
SUMMARY:Food Bank
DESCRIPTION:
URL:https://www.community-links.org/event/food-bank/2027-04-07/
LOCATION:Community Links\, 105 Barking Road\, Canning Town\, London\, E16 4HQ\, United Kingdom
ORGANIZER;CN="Links Studios":MAILTO:links.studios@community-link.org
END:VEVENT
BEGIN:VEVENT
DTSTART;TZID=Europe/London:20270407T160000
DTEND;TZID=Europe/London:20270407T170000
DTSTAMP:20260425T231606
CREATED:20210615T111000Z
LAST-MODIFIED:20210615T111000Z
UID:4344-1807113600-1807117200@www.community-links.org
SUMMARY:Food Bank
DESCRIPTION:
URL:https://www.community-links.org/event/food-bank-2021-09-22/2027-04-07/
LOCATION:Community Links\, 105 Barking Road\, Canning Town\, London\, E16 4HQ\, United Kingdom
ORGANIZER;CN="Advice Service":MAILTO:advice@community-links.org
END:VEVENT
BEGIN:VEVENT
DTSTART;TZID=Europe/London:20270414T160000
DTEND;TZID=Europe/London:20270414T170000
DTSTAMP:20260425T231606
CREATED:20210615T111000Z
LAST-MODIFIED:20210615T111000Z
UID:4352-1807718400-1807722000@www.community-links.org
SUMMARY:Food Bank
DESCRIPTION:
URL:https://www.community-links.org/event/food-bank/2027-04-14/
LOCATION:Community Links\, 105 Barking Road\, Canning Town\, London\, E16 4HQ\, United Kingdom
ORGANIZER;CN="Links Studios":MAILTO:links.studios@community-link.org
END:VEVENT
BEGIN:VEVENT
DTSTART;TZID=Europe/London:20270414T160000
DTEND;TZID=Europe/London:20270414T170000
DTSTAMP:20260425T231606
CREATED:20210615T111000Z
LAST-MODIFIED:20210615T111000Z
UID:4353-1807718400-1807722000@www.community-links.org
SUMMARY:Food Bank
DESCRIPTION:
URL:https://www.community-links.org/event/food-bank-2021-09-22/2027-04-14/
LOCATION:Community Links\, 105 Barking Road\, Canning Town\, London\, E16 4HQ\, United Kingdom
ORGANIZER;CN="Advice Service":MAILTO:advice@community-links.org
END:VEVENT
END:VCALENDAR