BEGIN:VCALENDAR
VERSION:2.0
PRODID:-//Community Links - ECPv6.15.20//NONSGML v1.0//EN
CALSCALE:GREGORIAN
METHOD:PUBLISH
X-ORIGINAL-URL:https://www.community-links.org
X-WR-CALDESC:Events for Community Links
REFRESH-INTERVAL;VALUE=DURATION:PT1H
X-Robots-Tag:noindex
X-PUBLISHED-TTL:PT1H
BEGIN:VTIMEZONE
TZID:Europe/London
BEGIN:DAYLIGHT
TZOFFSETFROM:+0000
TZOFFSETTO:+0100
TZNAME:BST
DTSTART:20250330T010000
END:DAYLIGHT
BEGIN:STANDARD
TZOFFSETFROM:+0100
TZOFFSETTO:+0000
TZNAME:GMT
DTSTART:20251026T010000
END:STANDARD
BEGIN:DAYLIGHT
TZOFFSETFROM:+0000
TZOFFSETTO:+0100
TZNAME:BST
DTSTART:20260329T010000
END:DAYLIGHT
BEGIN:STANDARD
TZOFFSETFROM:+0100
TZOFFSETTO:+0000
TZNAME:GMT
DTSTART:20261025T010000
END:STANDARD
BEGIN:DAYLIGHT
TZOFFSETFROM:+0000
TZOFFSETTO:+0100
TZNAME:BST
DTSTART:20270328T010000
END:DAYLIGHT
BEGIN:STANDARD
TZOFFSETFROM:+0100
TZOFFSETTO:+0000
TZNAME:GMT
DTSTART:20271031T010000
END:STANDARD
END:VTIMEZONE
BEGIN:VEVENT
DTSTART;TZID=Europe/London:20260429T160000
DTEND;TZID=Europe/London:20260429T170000
DTSTAMP:20260425T151825
CREATED:20210615T111000Z
LAST-MODIFIED:20210615T111000Z
UID:3882-1777478400-1777482000@www.community-links.org
SUMMARY:Food Bank
DESCRIPTION:
URL:https://www.community-links.org/event/food-bank-2021-09-22/2026-04-29/
LOCATION:Community Links\, 105 Barking Road\, Canning Town\, London\, E16 4HQ\, United Kingdom
ORGANIZER;CN="Advice Service":MAILTO:advice@community-links.org
END:VEVENT
BEGIN:VEVENT
DTSTART;TZID=Europe/London:20260429T160000
DTEND;TZID=Europe/London:20260429T170000
DTSTAMP:20260425T151825
CREATED:20210615T111000Z
LAST-MODIFIED:20210615T111000Z
UID:3884-1777478400-1777482000@www.community-links.org
SUMMARY:Food Bank
DESCRIPTION:
URL:https://www.community-links.org/event/food-bank/2026-04-29/
LOCATION:Community Links\, 105 Barking Road\, Canning Town\, London\, E16 4HQ\, United Kingdom
ORGANIZER;CN="Links Studios":MAILTO:links.studios@community-link.org
END:VEVENT
BEGIN:VEVENT
DTSTART;TZID=Europe/London:20260506T160000
DTEND;TZID=Europe/London:20260506T170000
DTSTAMP:20260425T151825
CREATED:20210615T111000Z
LAST-MODIFIED:20210615T111000Z
UID:3891-1778083200-1778086800@www.community-links.org
SUMMARY:Food Bank
DESCRIPTION:
URL:https://www.community-links.org/event/food-bank-2021-09-22/2026-05-06/
LOCATION:Community Links\, 105 Barking Road\, Canning Town\, London\, E16 4HQ\, United Kingdom
ORGANIZER;CN="Advice Service":MAILTO:advice@community-links.org
END:VEVENT
BEGIN:VEVENT
DTSTART;TZID=Europe/London:20260506T160000
DTEND;TZID=Europe/London:20260506T170000
DTSTAMP:20260425T151825
CREATED:20210615T111000Z
LAST-MODIFIED:20210615T111000Z
UID:3893-1778083200-1778086800@www.community-links.org
SUMMARY:Food Bank
DESCRIPTION:
URL:https://www.community-links.org/event/food-bank/2026-05-06/
LOCATION:Community Links\, 105 Barking Road\, Canning Town\, London\, E16 4HQ\, United Kingdom
ORGANIZER;CN="Links Studios":MAILTO:links.studios@community-link.org
END:VEVENT
BEGIN:VEVENT
DTSTART;TZID=Europe/London:20260513T160000
DTEND;TZID=Europe/London:20260513T170000
DTSTAMP:20260425T151825
CREATED:20210615T111000Z
LAST-MODIFIED:20210615T111000Z
UID:3900-1778688000-1778691600@www.community-links.org
SUMMARY:Food Bank
DESCRIPTION:
URL:https://www.community-links.org/event/food-bank-2021-09-22/2026-05-13/
LOCATION:Community Links\, 105 Barking Road\, Canning Town\, London\, E16 4HQ\, United Kingdom
ORGANIZER;CN="Advice Service":MAILTO:advice@community-links.org
END:VEVENT
BEGIN:VEVENT
DTSTART;TZID=Europe/London:20260513T160000
DTEND;TZID=Europe/London:20260513T170000
DTSTAMP:20260425T151825
CREATED:20210615T111000Z
LAST-MODIFIED:20210615T111000Z
UID:3902-1778688000-1778691600@www.community-links.org
SUMMARY:Food Bank
DESCRIPTION:
URL:https://www.community-links.org/event/food-bank/2026-05-13/
LOCATION:Community Links\, 105 Barking Road\, Canning Town\, London\, E16 4HQ\, United Kingdom
ORGANIZER;CN="Links Studios":MAILTO:links.studios@community-link.org
END:VEVENT
BEGIN:VEVENT
DTSTART;TZID=Europe/London:20260520T160000
DTEND;TZID=Europe/London:20260520T170000
DTSTAMP:20260425T151825
CREATED:20210615T111000Z
LAST-MODIFIED:20210615T111000Z
UID:3913-1779292800-1779296400@www.community-links.org
SUMMARY:Food Bank
DESCRIPTION:
URL:https://www.community-links.org/event/food-bank-2021-09-22/2026-05-20/
LOCATION:Community Links\, 105 Barking Road\, Canning Town\, London\, E16 4HQ\, United Kingdom
ORGANIZER;CN="Advice Service":MAILTO:advice@community-links.org
END:VEVENT
BEGIN:VEVENT
DTSTART;TZID=Europe/London:20260520T160000
DTEND;TZID=Europe/London:20260520T170000
DTSTAMP:20260425T151825
CREATED:20210615T111000Z
LAST-MODIFIED:20210615T111000Z
UID:3915-1779292800-1779296400@www.community-links.org
SUMMARY:Food Bank
DESCRIPTION:
URL:https://www.community-links.org/event/food-bank/2026-05-20/
LOCATION:Community Links\, 105 Barking Road\, Canning Town\, London\, E16 4HQ\, United Kingdom
ORGANIZER;CN="Links Studios":MAILTO:links.studios@community-link.org
END:VEVENT
BEGIN:VEVENT
DTSTART;TZID=Europe/London:20260527T160000
DTEND;TZID=Europe/London:20260527T170000
DTSTAMP:20260425T151825
CREATED:20210615T111000Z
LAST-MODIFIED:20210615T111000Z
UID:3922-1779897600-1779901200@www.community-links.org
SUMMARY:Food Bank
DESCRIPTION:
URL:https://www.community-links.org/event/food-bank-2021-09-22/2026-05-27/
LOCATION:Community Links\, 105 Barking Road\, Canning Town\, London\, E16 4HQ\, United Kingdom
ORGANIZER;CN="Advice Service":MAILTO:advice@community-links.org
END:VEVENT
BEGIN:VEVENT
DTSTART;TZID=Europe/London:20260527T160000
DTEND;TZID=Europe/London:20260527T170000
DTSTAMP:20260425T151825
CREATED:20210615T111000Z
LAST-MODIFIED:20210615T111000Z
UID:3924-1779897600-1779901200@www.community-links.org
SUMMARY:Food Bank
DESCRIPTION:
URL:https://www.community-links.org/event/food-bank/2026-05-27/
LOCATION:Community Links\, 105 Barking Road\, Canning Town\, London\, E16 4HQ\, United Kingdom
ORGANIZER;CN="Links Studios":MAILTO:links.studios@community-link.org
END:VEVENT
BEGIN:VEVENT
DTSTART;TZID=Europe/London:20260603T160000
DTEND;TZID=Europe/London:20260603T170000
DTSTAMP:20260425T151825
CREATED:20210615T111000Z
LAST-MODIFIED:20210615T111000Z
UID:3931-1780502400-1780506000@www.community-links.org
SUMMARY:Food Bank
DESCRIPTION:
URL:https://www.community-links.org/event/food-bank-2021-09-22/2026-06-03/
LOCATION:Community Links\, 105 Barking Road\, Canning Town\, London\, E16 4HQ\, United Kingdom
ORGANIZER;CN="Advice Service":MAILTO:advice@community-links.org
END:VEVENT
BEGIN:VEVENT
DTSTART;TZID=Europe/London:20260603T160000
DTEND;TZID=Europe/London:20260603T170000
DTSTAMP:20260425T151825
CREATED:20210615T111000Z
LAST-MODIFIED:20210615T111000Z
UID:3933-1780502400-1780506000@www.community-links.org
SUMMARY:Food Bank
DESCRIPTION:
URL:https://www.community-links.org/event/food-bank/2026-06-03/
LOCATION:Community Links\, 105 Barking Road\, Canning Town\, London\, E16 4HQ\, United Kingdom
ORGANIZER;CN="Links Studios":MAILTO:links.studios@community-link.org
END:VEVENT
BEGIN:VEVENT
DTSTART;TZID=Europe/London:20260610T160000
DTEND;TZID=Europe/London:20260610T170000
DTSTAMP:20260425T151825
CREATED:20210615T111000Z
LAST-MODIFIED:20210615T111000Z
UID:3940-1781107200-1781110800@www.community-links.org
SUMMARY:Food Bank
DESCRIPTION:
URL:https://www.community-links.org/event/food-bank-2021-09-22/2026-06-10/
LOCATION:Community Links\, 105 Barking Road\, Canning Town\, London\, E16 4HQ\, United Kingdom
ORGANIZER;CN="Advice Service":MAILTO:advice@community-links.org
END:VEVENT
BEGIN:VEVENT
DTSTART;TZID=Europe/London:20260610T160000
DTEND;TZID=Europe/London:20260610T170000
DTSTAMP:20260425T151825
CREATED:20210615T111000Z
LAST-MODIFIED:20210615T111000Z
UID:3942-1781107200-1781110800@www.community-links.org
SUMMARY:Food Bank
DESCRIPTION:
URL:https://www.community-links.org/event/food-bank/2026-06-10/
LOCATION:Community Links\, 105 Barking Road\, Canning Town\, London\, E16 4HQ\, United Kingdom
ORGANIZER;CN="Links Studios":MAILTO:links.studios@community-link.org
END:VEVENT
BEGIN:VEVENT
DTSTART;TZID=Europe/London:20260617T160000
DTEND;TZID=Europe/London:20260617T170000
DTSTAMP:20260425T151825
CREATED:20210615T111000Z
LAST-MODIFIED:20210615T111000Z
UID:3949-1781712000-1781715600@www.community-links.org
SUMMARY:Food Bank
DESCRIPTION:
URL:https://www.community-links.org/event/food-bank-2021-09-22/2026-06-17/
LOCATION:Community Links\, 105 Barking Road\, Canning Town\, London\, E16 4HQ\, United Kingdom
ORGANIZER;CN="Advice Service":MAILTO:advice@community-links.org
END:VEVENT
BEGIN:VEVENT
DTSTART;TZID=Europe/London:20260617T160000
DTEND;TZID=Europe/London:20260617T170000
DTSTAMP:20260425T151825
CREATED:20210615T111000Z
LAST-MODIFIED:20210615T111000Z
UID:3951-1781712000-1781715600@www.community-links.org
SUMMARY:Food Bank
DESCRIPTION:
URL:https://www.community-links.org/event/food-bank/2026-06-17/
LOCATION:Community Links\, 105 Barking Road\, Canning Town\, London\, E16 4HQ\, United Kingdom
ORGANIZER;CN="Links Studios":MAILTO:links.studios@community-link.org
END:VEVENT
BEGIN:VEVENT
DTSTART;TZID=Europe/London:20260624T160000
DTEND;TZID=Europe/London:20260624T170000
DTSTAMP:20260425T151825
CREATED:20210615T111000Z
LAST-MODIFIED:20210615T111000Z
UID:3958-1782316800-1782320400@www.community-links.org
SUMMARY:Food Bank
DESCRIPTION:
URL:https://www.community-links.org/event/food-bank-2021-09-22/2026-06-24/
LOCATION:Community Links\, 105 Barking Road\, Canning Town\, London\, E16 4HQ\, United Kingdom
ORGANIZER;CN="Advice Service":MAILTO:advice@community-links.org
END:VEVENT
BEGIN:VEVENT
DTSTART;TZID=Europe/London:20260624T160000
DTEND;TZID=Europe/London:20260624T170000
DTSTAMP:20260425T151825
CREATED:20210615T111000Z
LAST-MODIFIED:20210615T111000Z
UID:3960-1782316800-1782320400@www.community-links.org
SUMMARY:Food Bank
DESCRIPTION:
URL:https://www.community-links.org/event/food-bank/2026-06-24/
LOCATION:Community Links\, 105 Barking Road\, Canning Town\, London\, E16 4HQ\, United Kingdom
ORGANIZER;CN="Links Studios":MAILTO:links.studios@community-link.org
END:VEVENT
BEGIN:VEVENT
DTSTART;TZID=Europe/London:20260701T160000
DTEND;TZID=Europe/London:20260701T170000
DTSTAMP:20260425T151825
CREATED:20210615T111000Z
LAST-MODIFIED:20210615T111000Z
UID:3967-1782921600-1782925200@www.community-links.org
SUMMARY:Food Bank
DESCRIPTION:
URL:https://www.community-links.org/event/food-bank-2021-09-22/2026-07-01/
LOCATION:Community Links\, 105 Barking Road\, Canning Town\, London\, E16 4HQ\, United Kingdom
ORGANIZER;CN="Advice Service":MAILTO:advice@community-links.org
END:VEVENT
BEGIN:VEVENT
DTSTART;TZID=Europe/London:20260701T160000
DTEND;TZID=Europe/London:20260701T170000
DTSTAMP:20260425T151825
CREATED:20210615T111000Z
LAST-MODIFIED:20210615T111000Z
UID:3969-1782921600-1782925200@www.community-links.org
SUMMARY:Food Bank
DESCRIPTION:
URL:https://www.community-links.org/event/food-bank/2026-07-01/
LOCATION:Community Links\, 105 Barking Road\, Canning Town\, London\, E16 4HQ\, United Kingdom
ORGANIZER;CN="Links Studios":MAILTO:links.studios@community-link.org
END:VEVENT
BEGIN:VEVENT
DTSTART;TZID=Europe/London:20260708T160000
DTEND;TZID=Europe/London:20260708T170000
DTSTAMP:20260425T151825
CREATED:20210615T111000Z
LAST-MODIFIED:20210615T111000Z
UID:3976-1783526400-1783530000@www.community-links.org
SUMMARY:Food Bank
DESCRIPTION:
URL:https://www.community-links.org/event/food-bank-2021-09-22/2026-07-08/
LOCATION:Community Links\, 105 Barking Road\, Canning Town\, London\, E16 4HQ\, United Kingdom
ORGANIZER;CN="Advice Service":MAILTO:advice@community-links.org
END:VEVENT
BEGIN:VEVENT
DTSTART;TZID=Europe/London:20260708T160000
DTEND;TZID=Europe/London:20260708T170000
DTSTAMP:20260425T151825
CREATED:20210615T111000Z
LAST-MODIFIED:20210615T111000Z
UID:3978-1783526400-1783530000@www.community-links.org
SUMMARY:Food Bank
DESCRIPTION:
URL:https://www.community-links.org/event/food-bank/2026-07-08/
LOCATION:Community Links\, 105 Barking Road\, Canning Town\, London\, E16 4HQ\, United Kingdom
ORGANIZER;CN="Links Studios":MAILTO:links.studios@community-link.org
END:VEVENT
BEGIN:VEVENT
DTSTART;TZID=Europe/London:20260715T160000
DTEND;TZID=Europe/London:20260715T170000
DTSTAMP:20260425T151825
CREATED:20210615T111000Z
LAST-MODIFIED:20210615T111000Z
UID:3985-1784131200-1784134800@www.community-links.org
SUMMARY:Food Bank
DESCRIPTION:
URL:https://www.community-links.org/event/food-bank-2021-09-22/2026-07-15/
LOCATION:Community Links\, 105 Barking Road\, Canning Town\, London\, E16 4HQ\, United Kingdom
ORGANIZER;CN="Advice Service":MAILTO:advice@community-links.org
END:VEVENT
BEGIN:VEVENT
DTSTART;TZID=Europe/London:20260715T160000
DTEND;TZID=Europe/London:20260715T170000
DTSTAMP:20260425T151825
CREATED:20210615T111000Z
LAST-MODIFIED:20210615T111000Z
UID:3987-1784131200-1784134800@www.community-links.org
SUMMARY:Food Bank
DESCRIPTION:
URL:https://www.community-links.org/event/food-bank/2026-07-15/
LOCATION:Community Links\, 105 Barking Road\, Canning Town\, London\, E16 4HQ\, United Kingdom
ORGANIZER;CN="Links Studios":MAILTO:links.studios@community-link.org
END:VEVENT
BEGIN:VEVENT
DTSTART;TZID=Europe/London:20260722T160000
DTEND;TZID=Europe/London:20260722T170000
DTSTAMP:20260425T151825
CREATED:20210615T111000Z
LAST-MODIFIED:20210615T111000Z
UID:3994-1784736000-1784739600@www.community-links.org
SUMMARY:Food Bank
DESCRIPTION:
URL:https://www.community-links.org/event/food-bank-2021-09-22/2026-07-22/
LOCATION:Community Links\, 105 Barking Road\, Canning Town\, London\, E16 4HQ\, United Kingdom
ORGANIZER;CN="Advice Service":MAILTO:advice@community-links.org
END:VEVENT
BEGIN:VEVENT
DTSTART;TZID=Europe/London:20260722T160000
DTEND;TZID=Europe/London:20260722T170000
DTSTAMP:20260425T151825
CREATED:20210615T111000Z
LAST-MODIFIED:20210615T111000Z
UID:3996-1784736000-1784739600@www.community-links.org
SUMMARY:Food Bank
DESCRIPTION:
URL:https://www.community-links.org/event/food-bank/2026-07-22/
LOCATION:Community Links\, 105 Barking Road\, Canning Town\, London\, E16 4HQ\, United Kingdom
ORGANIZER;CN="Links Studios":MAILTO:links.studios@community-link.org
END:VEVENT
BEGIN:VEVENT
DTSTART;TZID=Europe/London:20260729T160000
DTEND;TZID=Europe/London:20260729T170000
DTSTAMP:20260425T151825
CREATED:20210615T111000Z
LAST-MODIFIED:20210615T111000Z
UID:4003-1785340800-1785344400@www.community-links.org
SUMMARY:Food Bank
DESCRIPTION:
URL:https://www.community-links.org/event/food-bank-2021-09-22/2026-07-29/
LOCATION:Community Links\, 105 Barking Road\, Canning Town\, London\, E16 4HQ\, United Kingdom
ORGANIZER;CN="Advice Service":MAILTO:advice@community-links.org
END:VEVENT
BEGIN:VEVENT
DTSTART;TZID=Europe/London:20260729T160000
DTEND;TZID=Europe/London:20260729T170000
DTSTAMP:20260425T151825
CREATED:20210615T111000Z
LAST-MODIFIED:20210615T111000Z
UID:4005-1785340800-1785344400@www.community-links.org
SUMMARY:Food Bank
DESCRIPTION:
URL:https://www.community-links.org/event/food-bank/2026-07-29/
LOCATION:Community Links\, 105 Barking Road\, Canning Town\, London\, E16 4HQ\, United Kingdom
ORGANIZER;CN="Links Studios":MAILTO:links.studios@community-link.org
END:VEVENT
BEGIN:VEVENT
DTSTART;TZID=Europe/London:20260805T160000
DTEND;TZID=Europe/London:20260805T170000
DTSTAMP:20260425T151825
CREATED:20210615T111000Z
LAST-MODIFIED:20210615T111000Z
UID:4013-1785945600-1785949200@www.community-links.org
SUMMARY:Food Bank
DESCRIPTION:
URL:https://www.community-links.org/event/food-bank/2026-08-05/
LOCATION:Community Links\, 105 Barking Road\, Canning Town\, London\, E16 4HQ\, United Kingdom
ORGANIZER;CN="Links Studios":MAILTO:links.studios@community-link.org
END:VEVENT
BEGIN:VEVENT
DTSTART;TZID=Europe/London:20260805T160000
DTEND;TZID=Europe/London:20260805T170000
DTSTAMP:20260425T151825
CREATED:20210615T111000Z
LAST-MODIFIED:20210615T111000Z
UID:4014-1785945600-1785949200@www.community-links.org
SUMMARY:Food Bank
DESCRIPTION:
URL:https://www.community-links.org/event/food-bank-2021-09-22/2026-08-05/
LOCATION:Community Links\, 105 Barking Road\, Canning Town\, London\, E16 4HQ\, United Kingdom
ORGANIZER;CN="Advice Service":MAILTO:advice@community-links.org
END:VEVENT
END:VCALENDAR