BEGIN:VCALENDAR
VERSION:2.0
PRODID:-//Community Links - ECPv6.15.20//NONSGML v1.0//EN
CALSCALE:GREGORIAN
METHOD:PUBLISH
X-WR-CALNAME:Community Links
X-ORIGINAL-URL:https://www.community-links.org
X-WR-CALDESC:Events for Community Links
REFRESH-INTERVAL;VALUE=DURATION:PT1H
X-Robots-Tag:noindex
X-PUBLISHED-TTL:PT1H
BEGIN:VTIMEZONE
TZID:Europe/London
BEGIN:DAYLIGHT
TZOFFSETFROM:+0000
TZOFFSETTO:+0100
TZNAME:BST
DTSTART:20250330T010000
END:DAYLIGHT
BEGIN:STANDARD
TZOFFSETFROM:+0100
TZOFFSETTO:+0000
TZNAME:GMT
DTSTART:20251026T010000
END:STANDARD
BEGIN:DAYLIGHT
TZOFFSETFROM:+0000
TZOFFSETTO:+0100
TZNAME:BST
DTSTART:20260329T010000
END:DAYLIGHT
BEGIN:STANDARD
TZOFFSETFROM:+0100
TZOFFSETTO:+0000
TZNAME:GMT
DTSTART:20261025T010000
END:STANDARD
BEGIN:DAYLIGHT
TZOFFSETFROM:+0000
TZOFFSETTO:+0100
TZNAME:BST
DTSTART:20270328T010000
END:DAYLIGHT
BEGIN:STANDARD
TZOFFSETFROM:+0100
TZOFFSETTO:+0000
TZNAME:GMT
DTSTART:20271031T010000
END:STANDARD
END:VTIMEZONE
BEGIN:VEVENT
DTSTART;TZID=Europe/London:20260701T160000
DTEND;TZID=Europe/London:20260701T170000
DTSTAMP:20260425T135256
CREATED:20210615T111000Z
LAST-MODIFIED:20210615T111000Z
UID:3967-1782921600-1782925200@www.community-links.org
SUMMARY:Food Bank
DESCRIPTION:
URL:https://www.community-links.org/event/food-bank-2021-09-22/2026-07-01/
LOCATION:Community Links\, 105 Barking Road\, Canning Town\, London\, E16 4HQ\, United Kingdom
ORGANIZER;CN="Advice Service":MAILTO:advice@community-links.org
END:VEVENT
BEGIN:VEVENT
DTSTART;TZID=Europe/London:20260701T160000
DTEND;TZID=Europe/London:20260701T170000
DTSTAMP:20260425T135256
CREATED:20210615T111000Z
LAST-MODIFIED:20210615T111000Z
UID:3969-1782921600-1782925200@www.community-links.org
SUMMARY:Food Bank
DESCRIPTION:
URL:https://www.community-links.org/event/food-bank/2026-07-01/
LOCATION:Community Links\, 105 Barking Road\, Canning Town\, London\, E16 4HQ\, United Kingdom
ORGANIZER;CN="Links Studios":MAILTO:links.studios@community-link.org
END:VEVENT
BEGIN:VEVENT
DTSTART;TZID=Europe/London:20260708T160000
DTEND;TZID=Europe/London:20260708T170000
DTSTAMP:20260425T135256
CREATED:20210615T111000Z
LAST-MODIFIED:20210615T111000Z
UID:3976-1783526400-1783530000@www.community-links.org
SUMMARY:Food Bank
DESCRIPTION:
URL:https://www.community-links.org/event/food-bank-2021-09-22/2026-07-08/
LOCATION:Community Links\, 105 Barking Road\, Canning Town\, London\, E16 4HQ\, United Kingdom
ORGANIZER;CN="Advice Service":MAILTO:advice@community-links.org
END:VEVENT
BEGIN:VEVENT
DTSTART;TZID=Europe/London:20260708T160000
DTEND;TZID=Europe/London:20260708T170000
DTSTAMP:20260425T135256
CREATED:20210615T111000Z
LAST-MODIFIED:20210615T111000Z
UID:3978-1783526400-1783530000@www.community-links.org
SUMMARY:Food Bank
DESCRIPTION:
URL:https://www.community-links.org/event/food-bank/2026-07-08/
LOCATION:Community Links\, 105 Barking Road\, Canning Town\, London\, E16 4HQ\, United Kingdom
ORGANIZER;CN="Links Studios":MAILTO:links.studios@community-link.org
END:VEVENT
BEGIN:VEVENT
DTSTART;TZID=Europe/London:20260715T160000
DTEND;TZID=Europe/London:20260715T170000
DTSTAMP:20260425T135256
CREATED:20210615T111000Z
LAST-MODIFIED:20210615T111000Z
UID:3985-1784131200-1784134800@www.community-links.org
SUMMARY:Food Bank
DESCRIPTION:
URL:https://www.community-links.org/event/food-bank-2021-09-22/2026-07-15/
LOCATION:Community Links\, 105 Barking Road\, Canning Town\, London\, E16 4HQ\, United Kingdom
ORGANIZER;CN="Advice Service":MAILTO:advice@community-links.org
END:VEVENT
BEGIN:VEVENT
DTSTART;TZID=Europe/London:20260715T160000
DTEND;TZID=Europe/London:20260715T170000
DTSTAMP:20260425T135256
CREATED:20210615T111000Z
LAST-MODIFIED:20210615T111000Z
UID:3987-1784131200-1784134800@www.community-links.org
SUMMARY:Food Bank
DESCRIPTION:
URL:https://www.community-links.org/event/food-bank/2026-07-15/
LOCATION:Community Links\, 105 Barking Road\, Canning Town\, London\, E16 4HQ\, United Kingdom
ORGANIZER;CN="Links Studios":MAILTO:links.studios@community-link.org
END:VEVENT
BEGIN:VEVENT
DTSTART;TZID=Europe/London:20260722T160000
DTEND;TZID=Europe/London:20260722T170000
DTSTAMP:20260425T135256
CREATED:20210615T111000Z
LAST-MODIFIED:20210615T111000Z
UID:3994-1784736000-1784739600@www.community-links.org
SUMMARY:Food Bank
DESCRIPTION:
URL:https://www.community-links.org/event/food-bank-2021-09-22/2026-07-22/
LOCATION:Community Links\, 105 Barking Road\, Canning Town\, London\, E16 4HQ\, United Kingdom
ORGANIZER;CN="Advice Service":MAILTO:advice@community-links.org
END:VEVENT
BEGIN:VEVENT
DTSTART;TZID=Europe/London:20260722T160000
DTEND;TZID=Europe/London:20260722T170000
DTSTAMP:20260425T135256
CREATED:20210615T111000Z
LAST-MODIFIED:20210615T111000Z
UID:3996-1784736000-1784739600@www.community-links.org
SUMMARY:Food Bank
DESCRIPTION:
URL:https://www.community-links.org/event/food-bank/2026-07-22/
LOCATION:Community Links\, 105 Barking Road\, Canning Town\, London\, E16 4HQ\, United Kingdom
ORGANIZER;CN="Links Studios":MAILTO:links.studios@community-link.org
END:VEVENT
BEGIN:VEVENT
DTSTART;TZID=Europe/London:20260729T160000
DTEND;TZID=Europe/London:20260729T170000
DTSTAMP:20260425T135256
CREATED:20210615T111000Z
LAST-MODIFIED:20210615T111000Z
UID:4003-1785340800-1785344400@www.community-links.org
SUMMARY:Food Bank
DESCRIPTION:
URL:https://www.community-links.org/event/food-bank-2021-09-22/2026-07-29/
LOCATION:Community Links\, 105 Barking Road\, Canning Town\, London\, E16 4HQ\, United Kingdom
ORGANIZER;CN="Advice Service":MAILTO:advice@community-links.org
END:VEVENT
BEGIN:VEVENT
DTSTART;TZID=Europe/London:20260729T160000
DTEND;TZID=Europe/London:20260729T170000
DTSTAMP:20260425T135256
CREATED:20210615T111000Z
LAST-MODIFIED:20210615T111000Z
UID:4005-1785340800-1785344400@www.community-links.org
SUMMARY:Food Bank
DESCRIPTION:
URL:https://www.community-links.org/event/food-bank/2026-07-29/
LOCATION:Community Links\, 105 Barking Road\, Canning Town\, London\, E16 4HQ\, United Kingdom
ORGANIZER;CN="Links Studios":MAILTO:links.studios@community-link.org
END:VEVENT
END:VCALENDAR