BEGIN:VCALENDAR
VERSION:2.0
PRODID:-//Community Links - ECPv6.15.20//NONSGML v1.0//EN
CALSCALE:GREGORIAN
METHOD:PUBLISH
X-WR-CALNAME:Community Links
X-ORIGINAL-URL:https://www.community-links.org
X-WR-CALDESC:Events for Community Links
REFRESH-INTERVAL;VALUE=DURATION:PT1H
X-Robots-Tag:noindex
X-PUBLISHED-TTL:PT1H
BEGIN:VTIMEZONE
TZID:Europe/London
BEGIN:DAYLIGHT
TZOFFSETFROM:+0000
TZOFFSETTO:+0100
TZNAME:BST
DTSTART:20240331T010000
END:DAYLIGHT
BEGIN:STANDARD
TZOFFSETFROM:+0100
TZOFFSETTO:+0000
TZNAME:GMT
DTSTART:20241027T010000
END:STANDARD
BEGIN:DAYLIGHT
TZOFFSETFROM:+0000
TZOFFSETTO:+0100
TZNAME:BST
DTSTART:20250330T010000
END:DAYLIGHT
BEGIN:STANDARD
TZOFFSETFROM:+0100
TZOFFSETTO:+0000
TZNAME:GMT
DTSTART:20251026T010000
END:STANDARD
BEGIN:DAYLIGHT
TZOFFSETFROM:+0000
TZOFFSETTO:+0100
TZNAME:BST
DTSTART:20260329T010000
END:DAYLIGHT
BEGIN:STANDARD
TZOFFSETFROM:+0100
TZOFFSETTO:+0000
TZNAME:GMT
DTSTART:20261025T010000
END:STANDARD
END:VTIMEZONE
BEGIN:VEVENT
DTSTART;TZID=Europe/London:20250806T160000
DTEND;TZID=Europe/London:20250806T170000
DTSTAMP:20260426T021801
CREATED:20210615T111000Z
LAST-MODIFIED:20210615T111000Z
UID:3522-1754496000-1754499600@www.community-links.org
SUMMARY:Food Bank
DESCRIPTION:
URL:https://www.community-links.org/event/food-bank-2021-09-22/2025-08-06/
LOCATION:Community Links\, 105 Barking Road\, Canning Town\, London\, E16 4HQ\, United Kingdom
ORGANIZER;CN="Advice Service":MAILTO:advice@community-links.org
END:VEVENT
BEGIN:VEVENT
DTSTART;TZID=Europe/London:20250806T160000
DTEND;TZID=Europe/London:20250806T170000
DTSTAMP:20260426T021801
CREATED:20210615T111000Z
LAST-MODIFIED:20210615T111000Z
UID:3524-1754496000-1754499600@www.community-links.org
SUMMARY:Food Bank
DESCRIPTION:
URL:https://www.community-links.org/event/food-bank/2025-08-06/
LOCATION:Community Links\, 105 Barking Road\, Canning Town\, London\, E16 4HQ\, United Kingdom
ORGANIZER;CN="Links Studios":MAILTO:links.studios@community-link.org
END:VEVENT
BEGIN:VEVENT
DTSTART;TZID=Europe/London:20250813T160000
DTEND;TZID=Europe/London:20250813T170000
DTSTAMP:20260426T021801
CREATED:20210615T111000Z
LAST-MODIFIED:20210615T111000Z
UID:3531-1755100800-1755104400@www.community-links.org
SUMMARY:Food Bank
DESCRIPTION:
URL:https://www.community-links.org/event/food-bank-2021-09-22/2025-08-13/
LOCATION:Community Links\, 105 Barking Road\, Canning Town\, London\, E16 4HQ\, United Kingdom
ORGANIZER;CN="Advice Service":MAILTO:advice@community-links.org
END:VEVENT
BEGIN:VEVENT
DTSTART;TZID=Europe/London:20250813T160000
DTEND;TZID=Europe/London:20250813T170000
DTSTAMP:20260426T021801
CREATED:20210615T111000Z
LAST-MODIFIED:20210615T111000Z
UID:3533-1755100800-1755104400@www.community-links.org
SUMMARY:Food Bank
DESCRIPTION:
URL:https://www.community-links.org/event/food-bank/2025-08-13/
LOCATION:Community Links\, 105 Barking Road\, Canning Town\, London\, E16 4HQ\, United Kingdom
ORGANIZER;CN="Links Studios":MAILTO:links.studios@community-link.org
END:VEVENT
BEGIN:VEVENT
DTSTART;TZID=Europe/London:20250820T160000
DTEND;TZID=Europe/London:20250820T170000
DTSTAMP:20260426T021801
CREATED:20210615T111000Z
LAST-MODIFIED:20210615T111000Z
UID:3540-1755705600-1755709200@www.community-links.org
SUMMARY:Food Bank
DESCRIPTION:
URL:https://www.community-links.org/event/food-bank-2021-09-22/2025-08-20/
LOCATION:Community Links\, 105 Barking Road\, Canning Town\, London\, E16 4HQ\, United Kingdom
ORGANIZER;CN="Advice Service":MAILTO:advice@community-links.org
END:VEVENT
BEGIN:VEVENT
DTSTART;TZID=Europe/London:20250820T160000
DTEND;TZID=Europe/London:20250820T170000
DTSTAMP:20260426T021801
CREATED:20210615T111000Z
LAST-MODIFIED:20210615T111000Z
UID:3542-1755705600-1755709200@www.community-links.org
SUMMARY:Food Bank
DESCRIPTION:
URL:https://www.community-links.org/event/food-bank/2025-08-20/
LOCATION:Community Links\, 105 Barking Road\, Canning Town\, London\, E16 4HQ\, United Kingdom
ORGANIZER;CN="Links Studios":MAILTO:links.studios@community-link.org
END:VEVENT
BEGIN:VEVENT
DTSTART;TZID=Europe/London:20250827T160000
DTEND;TZID=Europe/London:20250827T170000
DTSTAMP:20260426T021801
CREATED:20210615T111000Z
LAST-MODIFIED:20210615T111000Z
UID:3549-1756310400-1756314000@www.community-links.org
SUMMARY:Food Bank
DESCRIPTION:
URL:https://www.community-links.org/event/food-bank-2021-09-22/2025-08-27/
LOCATION:Community Links\, 105 Barking Road\, Canning Town\, London\, E16 4HQ\, United Kingdom
ORGANIZER;CN="Advice Service":MAILTO:advice@community-links.org
END:VEVENT
BEGIN:VEVENT
DTSTART;TZID=Europe/London:20250827T160000
DTEND;TZID=Europe/London:20250827T170000
DTSTAMP:20260426T021801
CREATED:20210615T111000Z
LAST-MODIFIED:20210615T111000Z
UID:3551-1756310400-1756314000@www.community-links.org
SUMMARY:Food Bank
DESCRIPTION:
URL:https://www.community-links.org/event/food-bank/2025-08-27/
LOCATION:Community Links\, 105 Barking Road\, Canning Town\, London\, E16 4HQ\, United Kingdom
ORGANIZER;CN="Links Studios":MAILTO:links.studios@community-link.org
END:VEVENT
END:VCALENDAR