BEGIN:VCALENDAR
VERSION:2.0
PRODID:-//Community Links - ECPv6.15.20//NONSGML v1.0//EN
CALSCALE:GREGORIAN
METHOD:PUBLISH
X-WR-CALNAME:Community Links
X-ORIGINAL-URL:https://www.community-links.org
X-WR-CALDESC:Events for Community Links
REFRESH-INTERVAL;VALUE=DURATION:PT1H
X-Robots-Tag:noindex
X-PUBLISHED-TTL:PT1H
BEGIN:VTIMEZONE
TZID:Europe/London
BEGIN:DAYLIGHT
TZOFFSETFROM:+0000
TZOFFSETTO:+0100
TZNAME:BST
DTSTART:20250330T010000
END:DAYLIGHT
BEGIN:STANDARD
TZOFFSETFROM:+0100
TZOFFSETTO:+0000
TZNAME:GMT
DTSTART:20251026T010000
END:STANDARD
BEGIN:DAYLIGHT
TZOFFSETFROM:+0000
TZOFFSETTO:+0100
TZNAME:BST
DTSTART:20260329T010000
END:DAYLIGHT
BEGIN:STANDARD
TZOFFSETFROM:+0100
TZOFFSETTO:+0000
TZNAME:GMT
DTSTART:20261025T010000
END:STANDARD
BEGIN:DAYLIGHT
TZOFFSETFROM:+0000
TZOFFSETTO:+0100
TZNAME:BST
DTSTART:20270328T010000
END:DAYLIGHT
BEGIN:STANDARD
TZOFFSETFROM:+0100
TZOFFSETTO:+0000
TZNAME:GMT
DTSTART:20271031T010000
END:STANDARD
END:VTIMEZONE
BEGIN:VEVENT
DTSTART;TZID=Europe/London:20260701T173000
DTEND;TZID=Europe/London:20260701T203000
DTSTAMP:20260425T133153
CREATED:20210615T110737Z
LAST-MODIFIED:20210615T110737Z
UID:3970-1782927000-1782937800@www.community-links.org
SUMMARY:Free Legal Advice
DESCRIPTION:In need of FREE legal support?\nOur specialist advisors and dedicated volunteers provide free legal support for clients with legal issues relating to consumer\, housing\, or employment law. \nTo enquire and arrange an appointment\, call 020 7473 9681 Monday-Friday\, from 9.30am-5.00pm. \nAlternatively\, you can email us at advice@community-links.org\, or visit us at 105 Barking Road\, London\, E16 4HQ. \nAdvice appointments take place on Mondays and Wednesdays\, 5:30pm-8:30pm.
URL:https://www.community-links.org/event/free-legal-advice/2026-07-01/
LOCATION:Community Links\, 105 Barking Road\, Canning Town\, London\, E16 4HQ\, United Kingdom
ORGANIZER;CN="Advice Service":MAILTO:advice@community-links.org
END:VEVENT
BEGIN:VEVENT
DTSTART;TZID=Europe/London:20260706T173000
DTEND;TZID=Europe/London:20260706T203000
DTSTAMP:20260425T133153
CREATED:20210615T110737Z
LAST-MODIFIED:20210615T110737Z
UID:3973-1783359000-1783369800@www.community-links.org
SUMMARY:Free Legal Advice
DESCRIPTION:In need of FREE legal support?\nOur specialist advisors and dedicated volunteers provide free legal support for clients with legal issues relating to consumer\, housing\, or employment law. \nTo enquire and arrange an appointment\, call 020 7473 9681 Monday-Friday\, from 9.30am-5.00pm. \nAlternatively\, you can email us at advice@community-links.org\, or visit us at 105 Barking Road\, London\, E16 4HQ. \nAdvice appointments take place on Mondays and Wednesdays\, 5:30pm-8:30pm.
URL:https://www.community-links.org/event/free-legal-advice/2026-07-06/
LOCATION:Community Links\, 105 Barking Road\, Canning Town\, London\, E16 4HQ\, United Kingdom
ORGANIZER;CN="Advice Service":MAILTO:advice@community-links.org
END:VEVENT
BEGIN:VEVENT
DTSTART;TZID=Europe/London:20260708T173000
DTEND;TZID=Europe/London:20260708T203000
DTSTAMP:20260425T133153
CREATED:20210615T110737Z
LAST-MODIFIED:20210615T110737Z
UID:3979-1783531800-1783542600@www.community-links.org
SUMMARY:Free Legal Advice
DESCRIPTION:In need of FREE legal support?\nOur specialist advisors and dedicated volunteers provide free legal support for clients with legal issues relating to consumer\, housing\, or employment law. \nTo enquire and arrange an appointment\, call 020 7473 9681 Monday-Friday\, from 9.30am-5.00pm. \nAlternatively\, you can email us at advice@community-links.org\, or visit us at 105 Barking Road\, London\, E16 4HQ. \nAdvice appointments take place on Mondays and Wednesdays\, 5:30pm-8:30pm.
URL:https://www.community-links.org/event/free-legal-advice/2026-07-08/
LOCATION:Community Links\, 105 Barking Road\, Canning Town\, London\, E16 4HQ\, United Kingdom
ORGANIZER;CN="Advice Service":MAILTO:advice@community-links.org
END:VEVENT
BEGIN:VEVENT
DTSTART;TZID=Europe/London:20260713T173000
DTEND;TZID=Europe/London:20260713T203000
DTSTAMP:20260425T133153
CREATED:20210615T110737Z
LAST-MODIFIED:20210615T110737Z
UID:3982-1783963800-1783974600@www.community-links.org
SUMMARY:Free Legal Advice
DESCRIPTION:In need of FREE legal support?\nOur specialist advisors and dedicated volunteers provide free legal support for clients with legal issues relating to consumer\, housing\, or employment law. \nTo enquire and arrange an appointment\, call 020 7473 9681 Monday-Friday\, from 9.30am-5.00pm. \nAlternatively\, you can email us at advice@community-links.org\, or visit us at 105 Barking Road\, London\, E16 4HQ. \nAdvice appointments take place on Mondays and Wednesdays\, 5:30pm-8:30pm.
URL:https://www.community-links.org/event/free-legal-advice/2026-07-13/
LOCATION:Community Links\, 105 Barking Road\, Canning Town\, London\, E16 4HQ\, United Kingdom
ORGANIZER;CN="Advice Service":MAILTO:advice@community-links.org
END:VEVENT
BEGIN:VEVENT
DTSTART;TZID=Europe/London:20260715T173000
DTEND;TZID=Europe/London:20260715T203000
DTSTAMP:20260425T133153
CREATED:20210615T110737Z
LAST-MODIFIED:20210615T110737Z
UID:3988-1784136600-1784147400@www.community-links.org
SUMMARY:Free Legal Advice
DESCRIPTION:In need of FREE legal support?\nOur specialist advisors and dedicated volunteers provide free legal support for clients with legal issues relating to consumer\, housing\, or employment law. \nTo enquire and arrange an appointment\, call 020 7473 9681 Monday-Friday\, from 9.30am-5.00pm. \nAlternatively\, you can email us at advice@community-links.org\, or visit us at 105 Barking Road\, London\, E16 4HQ. \nAdvice appointments take place on Mondays and Wednesdays\, 5:30pm-8:30pm.
URL:https://www.community-links.org/event/free-legal-advice/2026-07-15/
LOCATION:Community Links\, 105 Barking Road\, Canning Town\, London\, E16 4HQ\, United Kingdom
ORGANIZER;CN="Advice Service":MAILTO:advice@community-links.org
END:VEVENT
BEGIN:VEVENT
DTSTART;TZID=Europe/London:20260720T173000
DTEND;TZID=Europe/London:20260720T203000
DTSTAMP:20260425T133153
CREATED:20210615T110737Z
LAST-MODIFIED:20210615T110737Z
UID:3991-1784568600-1784579400@www.community-links.org
SUMMARY:Free Legal Advice
DESCRIPTION:In need of FREE legal support?\nOur specialist advisors and dedicated volunteers provide free legal support for clients with legal issues relating to consumer\, housing\, or employment law. \nTo enquire and arrange an appointment\, call 020 7473 9681 Monday-Friday\, from 9.30am-5.00pm. \nAlternatively\, you can email us at advice@community-links.org\, or visit us at 105 Barking Road\, London\, E16 4HQ. \nAdvice appointments take place on Mondays and Wednesdays\, 5:30pm-8:30pm.
URL:https://www.community-links.org/event/free-legal-advice/2026-07-20/
LOCATION:Community Links\, 105 Barking Road\, Canning Town\, London\, E16 4HQ\, United Kingdom
ORGANIZER;CN="Advice Service":MAILTO:advice@community-links.org
END:VEVENT
BEGIN:VEVENT
DTSTART;TZID=Europe/London:20260722T173000
DTEND;TZID=Europe/London:20260722T203000
DTSTAMP:20260425T133153
CREATED:20210615T110737Z
LAST-MODIFIED:20210615T110737Z
UID:3997-1784741400-1784752200@www.community-links.org
SUMMARY:Free Legal Advice
DESCRIPTION:In need of FREE legal support?\nOur specialist advisors and dedicated volunteers provide free legal support for clients with legal issues relating to consumer\, housing\, or employment law. \nTo enquire and arrange an appointment\, call 020 7473 9681 Monday-Friday\, from 9.30am-5.00pm. \nAlternatively\, you can email us at advice@community-links.org\, or visit us at 105 Barking Road\, London\, E16 4HQ. \nAdvice appointments take place on Mondays and Wednesdays\, 5:30pm-8:30pm.
URL:https://www.community-links.org/event/free-legal-advice/2026-07-22/
LOCATION:Community Links\, 105 Barking Road\, Canning Town\, London\, E16 4HQ\, United Kingdom
ORGANIZER;CN="Advice Service":MAILTO:advice@community-links.org
END:VEVENT
BEGIN:VEVENT
DTSTART;TZID=Europe/London:20260727T173000
DTEND;TZID=Europe/London:20260727T203000
DTSTAMP:20260425T133153
CREATED:20210615T110737Z
LAST-MODIFIED:20210615T110737Z
UID:4000-1785173400-1785184200@www.community-links.org
SUMMARY:Free Legal Advice
DESCRIPTION:In need of FREE legal support?\nOur specialist advisors and dedicated volunteers provide free legal support for clients with legal issues relating to consumer\, housing\, or employment law. \nTo enquire and arrange an appointment\, call 020 7473 9681 Monday-Friday\, from 9.30am-5.00pm. \nAlternatively\, you can email us at advice@community-links.org\, or visit us at 105 Barking Road\, London\, E16 4HQ. \nAdvice appointments take place on Mondays and Wednesdays\, 5:30pm-8:30pm.
URL:https://www.community-links.org/event/free-legal-advice/2026-07-27/
LOCATION:Community Links\, 105 Barking Road\, Canning Town\, London\, E16 4HQ\, United Kingdom
ORGANIZER;CN="Advice Service":MAILTO:advice@community-links.org
END:VEVENT
BEGIN:VEVENT
DTSTART;TZID=Europe/London:20260729T173000
DTEND;TZID=Europe/London:20260729T203000
DTSTAMP:20260425T133153
CREATED:20210615T110737Z
LAST-MODIFIED:20210615T110737Z
UID:4006-1785346200-1785357000@www.community-links.org
SUMMARY:Free Legal Advice
DESCRIPTION:In need of FREE legal support?\nOur specialist advisors and dedicated volunteers provide free legal support for clients with legal issues relating to consumer\, housing\, or employment law. \nTo enquire and arrange an appointment\, call 020 7473 9681 Monday-Friday\, from 9.30am-5.00pm. \nAlternatively\, you can email us at advice@community-links.org\, or visit us at 105 Barking Road\, London\, E16 4HQ. \nAdvice appointments take place on Mondays and Wednesdays\, 5:30pm-8:30pm.
URL:https://www.community-links.org/event/free-legal-advice/2026-07-29/
LOCATION:Community Links\, 105 Barking Road\, Canning Town\, London\, E16 4HQ\, United Kingdom
ORGANIZER;CN="Advice Service":MAILTO:advice@community-links.org
END:VEVENT
END:VCALENDAR