BEGIN:VCALENDAR
VERSION:2.0
PRODID:-//Community Links - ECPv6.15.20//NONSGML v1.0//EN
CALSCALE:GREGORIAN
METHOD:PUBLISH
X-ORIGINAL-URL:https://www.community-links.org
X-WR-CALDESC:Events for Community Links
REFRESH-INTERVAL;VALUE=DURATION:PT1H
X-Robots-Tag:noindex
X-PUBLISHED-TTL:PT1H
BEGIN:VTIMEZONE
TZID:Europe/London
BEGIN:DAYLIGHT
TZOFFSETFROM:+0000
TZOFFSETTO:+0100
TZNAME:BST
DTSTART:20240331T010000
END:DAYLIGHT
BEGIN:STANDARD
TZOFFSETFROM:+0100
TZOFFSETTO:+0000
TZNAME:GMT
DTSTART:20241027T010000
END:STANDARD
BEGIN:DAYLIGHT
TZOFFSETFROM:+0000
TZOFFSETTO:+0100
TZNAME:BST
DTSTART:20250330T010000
END:DAYLIGHT
BEGIN:STANDARD
TZOFFSETFROM:+0100
TZOFFSETTO:+0000
TZNAME:GMT
DTSTART:20251026T010000
END:STANDARD
BEGIN:DAYLIGHT
TZOFFSETFROM:+0000
TZOFFSETTO:+0100
TZNAME:BST
DTSTART:20260329T010000
END:DAYLIGHT
BEGIN:STANDARD
TZOFFSETFROM:+0100
TZOFFSETTO:+0000
TZNAME:GMT
DTSTART:20261025T010000
END:STANDARD
END:VTIMEZONE
BEGIN:VEVENT
DTSTART;TZID=Europe/London:20250602T173000
DTEND;TZID=Europe/London:20250602T203000
DTSTAMP:20260426T000518
CREATED:20210615T110737Z
LAST-MODIFIED:20210615T110737Z
UID:3432-1748885400-1748896200@www.community-links.org
SUMMARY:Free Legal Advice
DESCRIPTION:In need of FREE legal support?\nOur specialist advisors and dedicated volunteers provide free legal support for clients with legal issues relating to consumer\, housing\, or employment law. \nTo enquire and arrange an appointment\, call 020 7473 9681 Monday-Friday\, from 9.30am-5.00pm. \nAlternatively\, you can email us at advice@community-links.org\, or visit us at 105 Barking Road\, London\, E16 4HQ. \nAdvice appointments take place on Mondays and Wednesdays\, 5:30pm-8:30pm.
URL:https://www.community-links.org/event/free-legal-advice/2025-06-02/
LOCATION:Community Links\, 105 Barking Road\, Canning Town\, London\, E16 4HQ\, United Kingdom
ORGANIZER;CN="Advice Service":MAILTO:advice@community-links.org
END:VEVENT
BEGIN:VEVENT
DTSTART;TZID=Europe/London:20250604T173000
DTEND;TZID=Europe/London:20250604T203000
DTSTAMP:20260426T000518
CREATED:20210615T110737Z
LAST-MODIFIED:20210615T110737Z
UID:3438-1749058200-1749069000@www.community-links.org
SUMMARY:Free Legal Advice
DESCRIPTION:In need of FREE legal support?\nOur specialist advisors and dedicated volunteers provide free legal support for clients with legal issues relating to consumer\, housing\, or employment law. \nTo enquire and arrange an appointment\, call 020 7473 9681 Monday-Friday\, from 9.30am-5.00pm. \nAlternatively\, you can email us at advice@community-links.org\, or visit us at 105 Barking Road\, London\, E16 4HQ. \nAdvice appointments take place on Mondays and Wednesdays\, 5:30pm-8:30pm.
URL:https://www.community-links.org/event/free-legal-advice/2025-06-04/
LOCATION:Community Links\, 105 Barking Road\, Canning Town\, London\, E16 4HQ\, United Kingdom
ORGANIZER;CN="Advice Service":MAILTO:advice@community-links.org
END:VEVENT
BEGIN:VEVENT
DTSTART;TZID=Europe/London:20250609T173000
DTEND;TZID=Europe/London:20250609T203000
DTSTAMP:20260426T000518
CREATED:20210615T110737Z
LAST-MODIFIED:20210615T110737Z
UID:3441-1749490200-1749501000@www.community-links.org
SUMMARY:Free Legal Advice
DESCRIPTION:In need of FREE legal support?\nOur specialist advisors and dedicated volunteers provide free legal support for clients with legal issues relating to consumer\, housing\, or employment law. \nTo enquire and arrange an appointment\, call 020 7473 9681 Monday-Friday\, from 9.30am-5.00pm. \nAlternatively\, you can email us at advice@community-links.org\, or visit us at 105 Barking Road\, London\, E16 4HQ. \nAdvice appointments take place on Mondays and Wednesdays\, 5:30pm-8:30pm.
URL:https://www.community-links.org/event/free-legal-advice/2025-06-09/
LOCATION:Community Links\, 105 Barking Road\, Canning Town\, London\, E16 4HQ\, United Kingdom
ORGANIZER;CN="Advice Service":MAILTO:advice@community-links.org
END:VEVENT
BEGIN:VEVENT
DTSTART;TZID=Europe/London:20250611T173000
DTEND;TZID=Europe/London:20250611T203000
DTSTAMP:20260426T000518
CREATED:20210615T110737Z
LAST-MODIFIED:20210615T110737Z
UID:3447-1749663000-1749673800@www.community-links.org
SUMMARY:Free Legal Advice
DESCRIPTION:In need of FREE legal support?\nOur specialist advisors and dedicated volunteers provide free legal support for clients with legal issues relating to consumer\, housing\, or employment law. \nTo enquire and arrange an appointment\, call 020 7473 9681 Monday-Friday\, from 9.30am-5.00pm. \nAlternatively\, you can email us at advice@community-links.org\, or visit us at 105 Barking Road\, London\, E16 4HQ. \nAdvice appointments take place on Mondays and Wednesdays\, 5:30pm-8:30pm.
URL:https://www.community-links.org/event/free-legal-advice/2025-06-11/
LOCATION:Community Links\, 105 Barking Road\, Canning Town\, London\, E16 4HQ\, United Kingdom
ORGANIZER;CN="Advice Service":MAILTO:advice@community-links.org
END:VEVENT
BEGIN:VEVENT
DTSTART;TZID=Europe/London:20250616T173000
DTEND;TZID=Europe/London:20250616T203000
DTSTAMP:20260426T000518
CREATED:20210615T110737Z
LAST-MODIFIED:20210615T110737Z
UID:3477-1750095000-1750105800@www.community-links.org
SUMMARY:Free Legal Advice
DESCRIPTION:In need of FREE legal support?\nOur specialist advisors and dedicated volunteers provide free legal support for clients with legal issues relating to consumer\, housing\, or employment law. \nTo enquire and arrange an appointment\, call 020 7473 9681 Monday-Friday\, from 9.30am-5.00pm. \nAlternatively\, you can email us at advice@community-links.org\, or visit us at 105 Barking Road\, London\, E16 4HQ. \nAdvice appointments take place on Mondays and Wednesdays\, 5:30pm-8:30pm.
URL:https://www.community-links.org/event/free-legal-advice/2025-06-16/
LOCATION:Community Links\, 105 Barking Road\, Canning Town\, London\, E16 4HQ\, United Kingdom
ORGANIZER;CN="Advice Service":MAILTO:advice@community-links.org
END:VEVENT
BEGIN:VEVENT
DTSTART;TZID=Europe/London:20250618T173000
DTEND;TZID=Europe/London:20250618T203000
DTSTAMP:20260426T000518
CREATED:20210615T110737Z
LAST-MODIFIED:20210615T110737Z
UID:3478-1750267800-1750278600@www.community-links.org
SUMMARY:Free Legal Advice
DESCRIPTION:In need of FREE legal support?\nOur specialist advisors and dedicated volunteers provide free legal support for clients with legal issues relating to consumer\, housing\, or employment law. \nTo enquire and arrange an appointment\, call 020 7473 9681 Monday-Friday\, from 9.30am-5.00pm. \nAlternatively\, you can email us at advice@community-links.org\, or visit us at 105 Barking Road\, London\, E16 4HQ. \nAdvice appointments take place on Mondays and Wednesdays\, 5:30pm-8:30pm.
URL:https://www.community-links.org/event/free-legal-advice/2025-06-18/
LOCATION:Community Links\, 105 Barking Road\, Canning Town\, London\, E16 4HQ\, United Kingdom
ORGANIZER;CN="Advice Service":MAILTO:advice@community-links.org
END:VEVENT
BEGIN:VEVENT
DTSTART;TZID=Europe/London:20250623T173000
DTEND;TZID=Europe/London:20250623T203000
DTSTAMP:20260426T000518
CREATED:20210615T110737Z
LAST-MODIFIED:20210615T110737Z
UID:3479-1750699800-1750710600@www.community-links.org
SUMMARY:Free Legal Advice
DESCRIPTION:In need of FREE legal support?\nOur specialist advisors and dedicated volunteers provide free legal support for clients with legal issues relating to consumer\, housing\, or employment law. \nTo enquire and arrange an appointment\, call 020 7473 9681 Monday-Friday\, from 9.30am-5.00pm. \nAlternatively\, you can email us at advice@community-links.org\, or visit us at 105 Barking Road\, London\, E16 4HQ. \nAdvice appointments take place on Mondays and Wednesdays\, 5:30pm-8:30pm.
URL:https://www.community-links.org/event/free-legal-advice/2025-06-23/
LOCATION:Community Links\, 105 Barking Road\, Canning Town\, London\, E16 4HQ\, United Kingdom
ORGANIZER;CN="Advice Service":MAILTO:advice@community-links.org
END:VEVENT
BEGIN:VEVENT
DTSTART;TZID=Europe/London:20250625T173000
DTEND;TZID=Europe/London:20250625T203000
DTSTAMP:20260426T000518
CREATED:20210615T110737Z
LAST-MODIFIED:20210615T110737Z
UID:3480-1750872600-1750883400@www.community-links.org
SUMMARY:Free Legal Advice
DESCRIPTION:In need of FREE legal support?\nOur specialist advisors and dedicated volunteers provide free legal support for clients with legal issues relating to consumer\, housing\, or employment law. \nTo enquire and arrange an appointment\, call 020 7473 9681 Monday-Friday\, from 9.30am-5.00pm. \nAlternatively\, you can email us at advice@community-links.org\, or visit us at 105 Barking Road\, London\, E16 4HQ. \nAdvice appointments take place on Mondays and Wednesdays\, 5:30pm-8:30pm.
URL:https://www.community-links.org/event/free-legal-advice/2025-06-25/
LOCATION:Community Links\, 105 Barking Road\, Canning Town\, London\, E16 4HQ\, United Kingdom
ORGANIZER;CN="Advice Service":MAILTO:advice@community-links.org
END:VEVENT
BEGIN:VEVENT
DTSTART;TZID=Europe/London:20250630T173000
DTEND;TZID=Europe/London:20250630T203000
DTSTAMP:20260426T000518
CREATED:20210615T110737Z
LAST-MODIFIED:20210615T110737Z
UID:3481-1751304600-1751315400@www.community-links.org
SUMMARY:Free Legal Advice
DESCRIPTION:In need of FREE legal support?\nOur specialist advisors and dedicated volunteers provide free legal support for clients with legal issues relating to consumer\, housing\, or employment law. \nTo enquire and arrange an appointment\, call 020 7473 9681 Monday-Friday\, from 9.30am-5.00pm. \nAlternatively\, you can email us at advice@community-links.org\, or visit us at 105 Barking Road\, London\, E16 4HQ. \nAdvice appointments take place on Mondays and Wednesdays\, 5:30pm-8:30pm.
URL:https://www.community-links.org/event/free-legal-advice/2025-06-30/
LOCATION:Community Links\, 105 Barking Road\, Canning Town\, London\, E16 4HQ\, United Kingdom
ORGANIZER;CN="Advice Service":MAILTO:advice@community-links.org
END:VEVENT
END:VCALENDAR