BEGIN:VCALENDAR
VERSION:2.0
PRODID:-//Community Links - ECPv6.15.20//NONSGML v1.0//EN
CALSCALE:GREGORIAN
METHOD:PUBLISH
X-ORIGINAL-URL:https://www.community-links.org
X-WR-CALDESC:Events for Community Links
REFRESH-INTERVAL;VALUE=DURATION:PT1H
X-Robots-Tag:noindex
X-PUBLISHED-TTL:PT1H
BEGIN:VTIMEZONE
TZID:Europe/London
BEGIN:DAYLIGHT
TZOFFSETFROM:+0000
TZOFFSETTO:+0100
TZNAME:BST
DTSTART:20240331T010000
END:DAYLIGHT
BEGIN:STANDARD
TZOFFSETFROM:+0100
TZOFFSETTO:+0000
TZNAME:GMT
DTSTART:20241027T010000
END:STANDARD
BEGIN:DAYLIGHT
TZOFFSETFROM:+0000
TZOFFSETTO:+0100
TZNAME:BST
DTSTART:20250330T010000
END:DAYLIGHT
BEGIN:STANDARD
TZOFFSETFROM:+0100
TZOFFSETTO:+0000
TZNAME:GMT
DTSTART:20251026T010000
END:STANDARD
BEGIN:DAYLIGHT
TZOFFSETFROM:+0000
TZOFFSETTO:+0100
TZNAME:BST
DTSTART:20260329T010000
END:DAYLIGHT
BEGIN:STANDARD
TZOFFSETFROM:+0100
TZOFFSETTO:+0000
TZNAME:GMT
DTSTART:20261025T010000
END:STANDARD
END:VTIMEZONE
BEGIN:VEVENT
DTSTART;TZID=Europe/London:20250303T173000
DTEND;TZID=Europe/London:20250303T203000
DTSTAMP:20260426T042738
CREATED:20210615T110737Z
LAST-MODIFIED:20210615T110737Z
UID:3312-1741023000-1741033800@www.community-links.org
SUMMARY:Free Legal Advice
DESCRIPTION:In need of FREE legal support?\nOur specialist advisors and dedicated volunteers provide free legal support for clients with legal issues relating to consumer\, housing\, or employment law. \nTo enquire and arrange an appointment\, call 020 7473 9681 Monday-Friday\, from 9.30am-5.00pm. \nAlternatively\, you can email us at advice@community-links.org\, or visit us at 105 Barking Road\, London\, E16 4HQ. \nAdvice appointments take place on Mondays and Wednesdays\, 5:30pm-8:30pm.
URL:https://www.community-links.org/event/free-legal-advice/2025-03-03/
LOCATION:Community Links\, 105 Barking Road\, Canning Town\, London\, E16 4HQ\, United Kingdom
ORGANIZER;CN="Advice Service":MAILTO:advice@community-links.org
END:VEVENT
BEGIN:VEVENT
DTSTART;TZID=Europe/London:20250305T173000
DTEND;TZID=Europe/London:20250305T203000
DTSTAMP:20260426T042738
CREATED:20210615T110737Z
LAST-MODIFIED:20210615T110737Z
UID:3313-1741195800-1741206600@www.community-links.org
SUMMARY:Free Legal Advice
DESCRIPTION:In need of FREE legal support?\nOur specialist advisors and dedicated volunteers provide free legal support for clients with legal issues relating to consumer\, housing\, or employment law. \nTo enquire and arrange an appointment\, call 020 7473 9681 Monday-Friday\, from 9.30am-5.00pm. \nAlternatively\, you can email us at advice@community-links.org\, or visit us at 105 Barking Road\, London\, E16 4HQ. \nAdvice appointments take place on Mondays and Wednesdays\, 5:30pm-8:30pm.
URL:https://www.community-links.org/event/free-legal-advice/2025-03-05/
LOCATION:Community Links\, 105 Barking Road\, Canning Town\, London\, E16 4HQ\, United Kingdom
ORGANIZER;CN="Advice Service":MAILTO:advice@community-links.org
END:VEVENT
BEGIN:VEVENT
DTSTART;TZID=Europe/London:20250310T173000
DTEND;TZID=Europe/London:20250310T203000
DTSTAMP:20260426T042738
CREATED:20210615T110737Z
LAST-MODIFIED:20210615T110737Z
UID:3314-1741627800-1741638600@www.community-links.org
SUMMARY:Free Legal Advice
DESCRIPTION:In need of FREE legal support?\nOur specialist advisors and dedicated volunteers provide free legal support for clients with legal issues relating to consumer\, housing\, or employment law. \nTo enquire and arrange an appointment\, call 020 7473 9681 Monday-Friday\, from 9.30am-5.00pm. \nAlternatively\, you can email us at advice@community-links.org\, or visit us at 105 Barking Road\, London\, E16 4HQ. \nAdvice appointments take place on Mondays and Wednesdays\, 5:30pm-8:30pm.
URL:https://www.community-links.org/event/free-legal-advice/2025-03-10/
LOCATION:Community Links\, 105 Barking Road\, Canning Town\, London\, E16 4HQ\, United Kingdom
ORGANIZER;CN="Advice Service":MAILTO:advice@community-links.org
END:VEVENT
BEGIN:VEVENT
DTSTART;TZID=Europe/London:20250312T173000
DTEND;TZID=Europe/London:20250312T203000
DTSTAMP:20260426T042738
CREATED:20210615T110737Z
LAST-MODIFIED:20210615T110737Z
UID:3315-1741800600-1741811400@www.community-links.org
SUMMARY:Free Legal Advice
DESCRIPTION:In need of FREE legal support?\nOur specialist advisors and dedicated volunteers provide free legal support for clients with legal issues relating to consumer\, housing\, or employment law. \nTo enquire and arrange an appointment\, call 020 7473 9681 Monday-Friday\, from 9.30am-5.00pm. \nAlternatively\, you can email us at advice@community-links.org\, or visit us at 105 Barking Road\, London\, E16 4HQ. \nAdvice appointments take place on Mondays and Wednesdays\, 5:30pm-8:30pm.
URL:https://www.community-links.org/event/free-legal-advice/2025-03-12/
LOCATION:Community Links\, 105 Barking Road\, Canning Town\, London\, E16 4HQ\, United Kingdom
ORGANIZER;CN="Advice Service":MAILTO:advice@community-links.org
END:VEVENT
BEGIN:VEVENT
DTSTART;TZID=Europe/London:20250317T173000
DTEND;TZID=Europe/London:20250317T203000
DTSTAMP:20260426T042738
CREATED:20210615T110737Z
LAST-MODIFIED:20210615T110737Z
UID:3316-1742232600-1742243400@www.community-links.org
SUMMARY:Free Legal Advice
DESCRIPTION:In need of FREE legal support?\nOur specialist advisors and dedicated volunteers provide free legal support for clients with legal issues relating to consumer\, housing\, or employment law. \nTo enquire and arrange an appointment\, call 020 7473 9681 Monday-Friday\, from 9.30am-5.00pm. \nAlternatively\, you can email us at advice@community-links.org\, or visit us at 105 Barking Road\, London\, E16 4HQ. \nAdvice appointments take place on Mondays and Wednesdays\, 5:30pm-8:30pm.
URL:https://www.community-links.org/event/free-legal-advice/2025-03-17/
LOCATION:Community Links\, 105 Barking Road\, Canning Town\, London\, E16 4HQ\, United Kingdom
ORGANIZER;CN="Advice Service":MAILTO:advice@community-links.org
END:VEVENT
BEGIN:VEVENT
DTSTART;TZID=Europe/London:20250319T173000
DTEND;TZID=Europe/London:20250319T203000
DTSTAMP:20260426T042738
CREATED:20210615T110737Z
LAST-MODIFIED:20210615T110737Z
UID:3317-1742405400-1742416200@www.community-links.org
SUMMARY:Free Legal Advice
DESCRIPTION:In need of FREE legal support?\nOur specialist advisors and dedicated volunteers provide free legal support for clients with legal issues relating to consumer\, housing\, or employment law. \nTo enquire and arrange an appointment\, call 020 7473 9681 Monday-Friday\, from 9.30am-5.00pm. \nAlternatively\, you can email us at advice@community-links.org\, or visit us at 105 Barking Road\, London\, E16 4HQ. \nAdvice appointments take place on Mondays and Wednesdays\, 5:30pm-8:30pm.
URL:https://www.community-links.org/event/free-legal-advice/2025-03-19/
LOCATION:Community Links\, 105 Barking Road\, Canning Town\, London\, E16 4HQ\, United Kingdom
ORGANIZER;CN="Advice Service":MAILTO:advice@community-links.org
END:VEVENT
BEGIN:VEVENT
DTSTART;TZID=Europe/London:20250324T173000
DTEND;TZID=Europe/London:20250324T203000
DTSTAMP:20260426T042738
CREATED:20210615T110737Z
LAST-MODIFIED:20210615T110737Z
UID:3336-1742837400-1742848200@www.community-links.org
SUMMARY:Free Legal Advice
DESCRIPTION:In need of FREE legal support?\nOur specialist advisors and dedicated volunteers provide free legal support for clients with legal issues relating to consumer\, housing\, or employment law. \nTo enquire and arrange an appointment\, call 020 7473 9681 Monday-Friday\, from 9.30am-5.00pm. \nAlternatively\, you can email us at advice@community-links.org\, or visit us at 105 Barking Road\, London\, E16 4HQ. \nAdvice appointments take place on Mondays and Wednesdays\, 5:30pm-8:30pm.
URL:https://www.community-links.org/event/free-legal-advice/2025-03-24/
LOCATION:Community Links\, 105 Barking Road\, Canning Town\, London\, E16 4HQ\, United Kingdom
ORGANIZER;CN="Advice Service":MAILTO:advice@community-links.org
END:VEVENT
BEGIN:VEVENT
DTSTART;TZID=Europe/London:20250326T173000
DTEND;TZID=Europe/London:20250326T203000
DTSTAMP:20260426T042738
CREATED:20210615T110737Z
LAST-MODIFIED:20210615T110737Z
UID:3342-1743010200-1743021000@www.community-links.org
SUMMARY:Free Legal Advice
DESCRIPTION:In need of FREE legal support?\nOur specialist advisors and dedicated volunteers provide free legal support for clients with legal issues relating to consumer\, housing\, or employment law. \nTo enquire and arrange an appointment\, call 020 7473 9681 Monday-Friday\, from 9.30am-5.00pm. \nAlternatively\, you can email us at advice@community-links.org\, or visit us at 105 Barking Road\, London\, E16 4HQ. \nAdvice appointments take place on Mondays and Wednesdays\, 5:30pm-8:30pm.
URL:https://www.community-links.org/event/free-legal-advice/2025-03-26/
LOCATION:Community Links\, 105 Barking Road\, Canning Town\, London\, E16 4HQ\, United Kingdom
ORGANIZER;CN="Advice Service":MAILTO:advice@community-links.org
END:VEVENT
BEGIN:VEVENT
DTSTART;TZID=Europe/London:20250331T173000
DTEND;TZID=Europe/London:20250331T203000
DTSTAMP:20260426T042738
CREATED:20210615T110737Z
LAST-MODIFIED:20210615T110737Z
UID:3345-1743442200-1743453000@www.community-links.org
SUMMARY:Free Legal Advice
DESCRIPTION:In need of FREE legal support?\nOur specialist advisors and dedicated volunteers provide free legal support for clients with legal issues relating to consumer\, housing\, or employment law. \nTo enquire and arrange an appointment\, call 020 7473 9681 Monday-Friday\, from 9.30am-5.00pm. \nAlternatively\, you can email us at advice@community-links.org\, or visit us at 105 Barking Road\, London\, E16 4HQ. \nAdvice appointments take place on Mondays and Wednesdays\, 5:30pm-8:30pm.
URL:https://www.community-links.org/event/free-legal-advice/2025-03-31/
LOCATION:Community Links\, 105 Barking Road\, Canning Town\, London\, E16 4HQ\, United Kingdom
ORGANIZER;CN="Advice Service":MAILTO:advice@community-links.org
END:VEVENT
END:VCALENDAR